BEGIN:VCALENDAR
VERSION:2.0
PRODID:-//Facultad de Humanidades - ECPv6.15.20//NONSGML v1.0//EN
CALSCALE:GREGORIAN
METHOD:PUBLISH
X-ORIGINAL-URL:https://humanidades.mdp.edu.ar
X-WR-CALDESC:Eventos para Facultad de Humanidades
REFRESH-INTERVAL;VALUE=DURATION:PT1H
X-Robots-Tag:noindex
X-PUBLISHED-TTL:PT1H
BEGIN:VTIMEZONE
TZID:America/Argentina/Buenos_Aires
BEGIN:STANDARD
TZOFFSETFROM:-0300
TZOFFSETTO:-0300
TZNAME:-03
DTSTART:20190101T000000
END:STANDARD
END:VTIMEZONE
BEGIN:VEVENT
DTSTART;VALUE=DATE:20200803
DTEND;VALUE=DATE:20201108
DTSTAMP:20260422T213106
CREATED:20200413T204830Z
LAST-MODIFIED:20200617T192339Z
UID:5599-1596412800-1604793599@humanidades.mdp.edu.ar
SUMMARY:Oferta Académica de posgrado − 2do cuatrimestre
DESCRIPTION:Hasta el 26 de junio (presentaciones pendientes del segundo cuatrimestre 2020) \nDel 03 de agosto al 07 de noviembre (primer cuatrimestre 2021)
URL:https://humanidades.mdp.edu.ar/actividad/oferta-academica-de-posgrado-%e2%88%92-2do-cuatrimestre/
LOCATION:Facultad de Humanidades – Sede Complejo Universitario\, Funes 3350\, Mar del Plata\, Buenos Aires\, 7600\, Argentina
CATEGORIES:Calendario administrativo
END:VEVENT
BEGIN:VEVENT
DTSTART;VALUE=DATE:20200803
DTEND;VALUE=DATE:20201003
DTSTAMP:20260422T213106
CREATED:20200413T210121Z
LAST-MODIFIED:20200617T191242Z
UID:5613-1596412800-1601683199@humanidades.mdp.edu.ar
SUMMARY:Incorporaciones a Grupos de Extensión
DESCRIPTION:Hasta el 03 de julio y del 03 de agosto al 02 de octubre
URL:https://humanidades.mdp.edu.ar/actividad/incorporaciones-a-grupos-de-extension-2/
LOCATION:Facultad de Humanidades – Sede Complejo Universitario\, Funes 3350\, Mar del Plata\, Buenos Aires\, 7600\, Argentina
CATEGORIES:Calendario administrativo
END:VEVENT
BEGIN:VEVENT
DTSTART;VALUE=DATE:20201001
DTEND;VALUE=DATE:20201031
DTSTAMP:20260422T213106
CREATED:20200413T210627Z
LAST-MODIFIED:20200617T193206Z
UID:5625-1601510400-1604102399@humanidades.mdp.edu.ar
SUMMARY:Reconocimiento de asignaturas Plan de Homologación de la carrera de Licenciatura en Cs. de la Educación - 2do cuatrimestre
DESCRIPTION:Desde el 04 al 29 de mayo y desde el 1º al 30 de octubre
URL:https://humanidades.mdp.edu.ar/actividad/reconocimiento-de-asignaturas-plan-de-homologacion-de-la-carrera-de-licenciatura-en-cs-de-la-educacion-2/
LOCATION:Facultad de Humanidades – Sede Complejo Universitario\, Funes 3350\, Mar del Plata\, Buenos Aires\, 7600\, Argentina
CATEGORIES:Calendario administrativo
END:VEVENT
BEGIN:VEVENT
DTSTART;VALUE=DATE:20201001
DTEND;VALUE=DATE:20201002
DTSTAMP:20260422T213106
CREATED:20200413T185454Z
LAST-MODIFIED:20200413T193536Z
UID:5532-1601510400-1601596799@humanidades.mdp.edu.ar
SUMMARY:Turno de exámenes − Octubre 2020
DESCRIPTION:Turno de exámenes octubre: Art. 23 inc. H) “Los alumnos que adeuden menos de 5(cinco)\nmaterias para completar su carrera\, podrán solicitar una mesa examinadora especial a\nconstituirse en los meses de abril y octubre de cada año académico.” Nota: para presentar en el\nperíodo del 01 al 04 de octubre
URL:https://humanidades.mdp.edu.ar/actividad/turno-de-examenes-%e2%88%92-octubre-2020/
LOCATION:Facultad de Humanidades – Sede Complejo Universitario\, Funes 3350\, Mar del Plata\, Buenos Aires\, 7600\, Argentina
CATEGORIES:Calendario académico
END:VEVENT
BEGIN:VEVENT
DTSTART;VALUE=DATE:20201016
DTEND;VALUE=DATE:20201017
DTSTAMP:20260422T213106
CREATED:20200413T185749Z
LAST-MODIFIED:20200413T193250Z
UID:5534-1602806400-1602892799@humanidades.mdp.edu.ar
SUMMARY:Fecha límite para pedido de altas y excepciones
DESCRIPTION:Fecha límite para pedido de altas y excepciones: 16/10
URL:https://humanidades.mdp.edu.ar/actividad/fecha-limite-para-pedido-de-altas-y-excepciones-4/
LOCATION:Facultad de Humanidades – Sede Complejo Universitario\, Funes 3350\, Mar del Plata\, Buenos Aires\, 7600\, Argentina
CATEGORIES:Calendario académico
END:VEVENT
BEGIN:VEVENT
DTSTART;VALUE=DATE:20201016
DTEND;VALUE=DATE:20201017
DTSTAMP:20260422T213106
CREATED:20200413T211305Z
LAST-MODIFIED:20200617T191803Z
UID:5643-1602806400-1602892799@humanidades.mdp.edu.ar
SUMMARY:Reincorporación de Alumnos dados de baja
DESCRIPTION:Fechas límites para el pedido de reincorporaciones: \n-hasta el 16 de octubre (tercer turno) \n-hasta el 06 de abril 2021 (cuarto turno) (OCA Nº 1875/20)
URL:https://humanidades.mdp.edu.ar/actividad/reincorporacion-de-alumnos-dados-de-baja-3/
LOCATION:Facultad de Humanidades – Sede Complejo Universitario\, Funes 3350\, Mar del Plata\, Buenos Aires\, 7600\, Argentina
CATEGORIES:Calendario administrativo
END:VEVENT
END:VCALENDAR