BEGIN:VCALENDAR
VERSION:2.0
PRODID:-//Facultad de Humanidades - ECPv6.15.20//NONSGML v1.0//EN
CALSCALE:GREGORIAN
METHOD:PUBLISH
X-ORIGINAL-URL:https://humanidades.mdp.edu.ar
X-WR-CALDESC:Eventos para Facultad de Humanidades
REFRESH-INTERVAL;VALUE=DURATION:PT1H
X-Robots-Tag:noindex
X-PUBLISHED-TTL:PT1H
BEGIN:VTIMEZONE
TZID:America/Argentina/Buenos_Aires
BEGIN:STANDARD
TZOFFSETFROM:-0300
TZOFFSETTO:-0300
TZNAME:-03
DTSTART:20200101T000000
END:STANDARD
END:VTIMEZONE
BEGIN:VEVENT
DTSTART;VALUE=DATE:20210217
DTEND;VALUE=DATE:20210303
DTSTAMP:20260422T142449
CREATED:20200413T190514Z
LAST-MODIFIED:20200413T193002Z
UID:5545-1613520000-1614729599@humanidades.mdp.edu.ar
SUMMARY:Turno de exámenes − Febrero 2021
DESCRIPTION:17/02 al 23/02: Historia – Geografía – Lenguas Modernas – Ciencias de la Información – Práctica\nSocio Comunitaria\n20/02: Bibes – Licad\n24/02 al 02/03: Letras – Filosofía – Sociología – Ciencias de la Educación – Ciencias Políticas
URL:https://humanidades.mdp.edu.ar/actividad/turno-de-examenes-%e2%88%92-febrero-2021/
LOCATION:Facultad de Humanidades – Sede Complejo Universitario\, Funes 3350\, Mar del Plata\, Buenos Aires\, 7600\, Argentina
CATEGORIES:Calendario académico
END:VEVENT
BEGIN:VEVENT
DTSTART;VALUE=DATE:20210301
DTEND;VALUE=DATE:20210320
DTSTAMP:20260422T142449
CREATED:20200413T190655Z
LAST-MODIFIED:20210226T202009Z
UID:5547-1614556800-1616198399@humanidades.mdp.edu.ar
SUMMARY:Reinscripción anual − 2021
DESCRIPTION:Reinscripción anual: 01/03 al 19/03 para todas las carreras
URL:https://humanidades.mdp.edu.ar/actividad/reinscripcion-anual-%e2%88%92-2021/
LOCATION:Facultad de Humanidades – Sede Complejo Universitario\, Funes 3350\, Mar del Plata\, Buenos Aires\, 7600\, Argentina
CATEGORIES:Calendario académico
END:VEVENT
BEGIN:VEVENT
DTSTART;VALUE=DATE:20210301
DTEND;VALUE=DATE:20210320
DTSTAMP:20260422T142449
CREATED:20200413T190816Z
LAST-MODIFIED:20210209T170531Z
UID:5550-1614556800-1616198399@humanidades.mdp.edu.ar
SUMMARY:Inscripción de cursadas – 1er cuatrimestre 2021
DESCRIPTION:Inscripción de cursadas: 01/03 al 19/03 para todas las carreras
URL:https://humanidades.mdp.edu.ar/actividad/inscripcion-de-cursadas-1er-cuatrimestre-2021/
LOCATION:Facultad de Humanidades – Sede Complejo Universitario\, Funes 3350\, Mar del Plata\, Buenos Aires\, 7600\, Argentina
CATEGORIES:Calendario académico
END:VEVENT
BEGIN:VEVENT
DTSTART;VALUE=DATE:20210301
DTEND;VALUE=DATE:20210320
DTSTAMP:20260422T142449
CREATED:20210303T162705Z
LAST-MODIFIED:20210303T164037Z
UID:6454-1614556800-1616198399@humanidades.mdp.edu.ar
SUMMARY:Inscripción de alumnos vocacionales nacionales y extranjeros – 1er cuatrimestre 2021
DESCRIPTION:Inscripción de alumnos vocacionales nacionales (OCA No 777/94) y extranjeros (Disp. No 20699\nde la DNM): 01 al 19 de marzo.
URL:https://humanidades.mdp.edu.ar/actividad/inscripcion-de-alumnos-vocacionales-nacionales-y-extranjeros-1er-cuatrimestre-2021/
LOCATION:Facultad de Humanidades – Sede Complejo Universitario\, Funes 3350\, Mar del Plata\, Buenos Aires\, 7600\, Argentina
CATEGORIES:Calendario académico
END:VEVENT
BEGIN:VEVENT
DTSTART;VALUE=DATE:20210308
DTEND;VALUE=DATE:20210320
DTSTAMP:20260422T142449
CREATED:20200413T191108Z
LAST-MODIFIED:20210226T202223Z
UID:5557-1615161600-1616198399@humanidades.mdp.edu.ar
SUMMARY:Inscripción de estudiantes a asignaturas optativas – 1er cuatrimestre 2021
DESCRIPTION:Inscripción de estudiantes a asignaturas optativas (OCS 554/93 y 2184/16): 08 al 19 de marzo
URL:https://humanidades.mdp.edu.ar/actividad/inscripcion-de-estudiantes-a-asignaturas-optativas-3/
LOCATION:Facultad de Humanidades – Sede Complejo Universitario\, Funes 3350\, Mar del Plata\, Buenos Aires\, 7600\, Argentina
CATEGORIES:Calendario académico
END:VEVENT
BEGIN:VEVENT
DTSTART;VALUE=DATE:20210315
DTEND;VALUE=DATE:20210406
DTSTAMP:20260422T142449
CREATED:20210318T160828Z
LAST-MODIFIED:20210318T160828Z
UID:6633-1615766400-1617667199@humanidades.mdp.edu.ar
SUMMARY:Adscripciones graduados
DESCRIPTION:15 de marzo al 05 de abril (primer  cuatrimestre)
URL:https://humanidades.mdp.edu.ar/actividad/adscripciones-graduados/
CATEGORIES:Calendario administrativo
END:VEVENT
BEGIN:VEVENT
DTSTART;VALUE=DATE:20210315
DTEND;VALUE=DATE:20210406
DTSTAMP:20260422T142449
CREATED:20210318T160920Z
LAST-MODIFIED:20210318T160920Z
UID:6635-1615766400-1617667199@humanidades.mdp.edu.ar
SUMMARY:Adscripciones estudiantes
DESCRIPTION:15 de marzo al 05 de abril (primer cuatrimestre) 
URL:https://humanidades.mdp.edu.ar/actividad/adscripciones-estudiantes/
CATEGORIES:Calendario administrativo
END:VEVENT
BEGIN:VEVENT
DTSTART;VALUE=DATE:20210315
DTEND;VALUE=DATE:20210406
DTSTAMP:20260422T142449
CREATED:20210318T161252Z
LAST-MODIFIED:20210318T161252Z
UID:6644-1615766400-1617667199@humanidades.mdp.edu.ar
SUMMARY:Adscripciones de becarios tipo A y B de la UNMDP que continúen desde su designación 2019/2020
DESCRIPTION:15 de marzo al 05 de abril (primer  cuatrimestre)  
URL:https://humanidades.mdp.edu.ar/actividad/adscripciones-de-becarios-tipo-a-y-b-de-la-unmdp-que-continuen-desde-su-designacion-2019-2020-2/
CATEGORIES:Calendario administrativo
END:VEVENT
BEGIN:VEVENT
DTSTART;VALUE=DATE:20210317
DTEND;VALUE=DATE:20210401
DTSTAMP:20260422T142449
CREATED:20200413T191245Z
LAST-MODIFIED:20210226T202417Z
UID:5561-1615939200-1617235199@humanidades.mdp.edu.ar
SUMMARY:Turno de exámenes −Marzo 2021
DESCRIPTION:17 al 23/03: Historia – Geografía – Lenguas Modernas – Ciencias de la Información – Práctica\nSocio Comunitaria\n20/03: Bibes – Licad\n25/03 al 31/03: Letras – Filosofía – Sociología – Ciencias de la Educación – Ciencia Política
URL:https://humanidades.mdp.edu.ar/actividad/turno-de-examenes-%e2%88%92marzo-2021/
LOCATION:Facultad de Humanidades – Sede Complejo Universitario\, Funes 3350\, Mar del Plata\, Buenos Aires\, 7600\, Argentina
CATEGORIES:Calendario académico
END:VEVENT
BEGIN:VEVENT
DTSTART;VALUE=DATE:20210318
DTEND;VALUE=DATE:20210401
DTSTAMP:20260422T142449
CREATED:20210318T160624Z
LAST-MODIFIED:20210318T160624Z
UID:6629-1616025600-1617235199@humanidades.mdp.edu.ar
SUMMARY:Nuevas asignaciones de Lugares de Trabajo y funciones docentes relacionadas
DESCRIPTION:Al momento de darse inicio al\nperíodo de beca
URL:https://humanidades.mdp.edu.ar/actividad/nuevas-asignaciones-de-lugares-de-trabajo-y-funciones-docentes-relacionadas-2/
CATEGORIES:Calendario administrativo
END:VEVENT
BEGIN:VEVENT
DTSTART;VALUE=DATE:20210318
DTEND;VALUE=DATE:20210401
DTSTAMP:20260422T142449
CREATED:20210318T161344Z
LAST-MODIFIED:20210318T165612Z
UID:6646-1616025600-1617235199@humanidades.mdp.edu.ar
SUMMARY:Adscripciones de becarios tipo A y B de la UNMDP 2021
DESCRIPTION:15 días después de la publicación en el Boletín Oficial del otorgamiento de la beca (primer cuatrimestre)** \n** Al no estar publicados los Ordenes de mérito de las Becas 2021 no se establece una fecha fija\npara las presentaciones de adscripciones becarios Tipo A y B y de funciones docentes de becarios\nestudiantes avanzados 2021 para el primer cuatrimestre. Se establece un período de tiempo de 15\ndias después de la designación para que se pueda elevar la documentación a Mesa de Entradas.
URL:https://humanidades.mdp.edu.ar/actividad/adscripciones-de-becarios-tipo-a-y-b-de-la-unmdp-2021/
CATEGORIES:Calendario administrativo
END:VEVENT
BEGIN:VEVENT
DTSTART;VALUE=DATE:20210318
DTEND;VALUE=DATE:20210401
DTSTAMP:20260422T142449
CREATED:20210318T161529Z
LAST-MODIFIED:20210318T165748Z
UID:6651-1616025600-1617235199@humanidades.mdp.edu.ar
SUMMARY:Funciones de becarios estudiantes avanzados de la UNMdP 2021
DESCRIPTION:15 días después de la publicación en el Boletín Oficial del otorgamiento de la beca (primer cuatrimestre) ** \n** Al no estar publicados los Ordenes de mérito de las Becas 2021 no se establece una fecha fija\npara las presentaciones de adscripciones becarios Tipo A y B y de funciones docentes de becarios\nestudiantes avanzados 2021 para el primer cuatrimestre. Se establece un período de tiempo de 15\ndias después de la designación para que se pueda elevar la documentación a Mesa de Entradas.
URL:https://humanidades.mdp.edu.ar/actividad/funciones-de-becarios-estudiantes-avanzados-de-la-unmdp-2021/
CATEGORIES:Calendario administrativo
END:VEVENT
BEGIN:VEVENT
DTSTART;VALUE=DATE:20210318
DTEND;VALUE=DATE:20210401
DTSTAMP:20260422T142449
CREATED:20210318T164210Z
LAST-MODIFIED:20210318T164210Z
UID:6712-1616025600-1617235199@humanidades.mdp.edu.ar
SUMMARY:Mesas de Exámenes Especiales (OCA No 092/90 y OCA 4173/16)
DESCRIPTION:Fuera de los turnos establecidos por Calendario Académico\, ingreso a Mesa de Entradas de nota elevada por cada Departamento\, con la solicitud de alumnos activos interesados\, 20 días antes de la fecha de examen sugerida.
URL:https://humanidades.mdp.edu.ar/actividad/mesas-de-examenes-especiales-oca-no-092-90-y-oca-4173-16-2/
CATEGORIES:Calendario administrativo
END:VEVENT
BEGIN:VEVENT
DTSTART;VALUE=DATE:20210318
DTEND;VALUE=DATE:20210401
DTSTAMP:20260422T142449
CREATED:20210318T164300Z
LAST-MODIFIED:20210318T164300Z
UID:6714-1616025600-1617235199@humanidades.mdp.edu.ar
SUMMARY:Defensa de Tesis/Tesinas de Grado
DESCRIPTION:Ingreso de nota del Departamento con integración Tribunal Examinador (previo informe favorable del Departamento Alumnos) 20 días antes de la fecha de defensa.
URL:https://humanidades.mdp.edu.ar/actividad/defensa-de-tesis-tesinas-de-grado-2/
CATEGORIES:Calendario académico
END:VEVENT
BEGIN:VEVENT
DTSTART;VALUE=DATE:20210322
DTEND;VALUE=DATE:20210327
DTSTAMP:20260422T142449
CREATED:20210318T161647Z
LAST-MODIFIED:20210318T161647Z
UID:6655-1616371200-1616803199@humanidades.mdp.edu.ar
SUMMARY:Oferta Académica de grado
DESCRIPTION:22 de marzo al 26 de marzo (primer cuatrimestre sólo para los pendientes de entrega)
URL:https://humanidades.mdp.edu.ar/actividad/oferta-academica-de-grado/
CATEGORIES:Calendario administrativo
END:VEVENT
BEGIN:VEVENT
DTSTART;VALUE=DATE:20210322
DTEND;VALUE=DATE:20210605
DTSTAMP:20260422T142449
CREATED:20210318T161828Z
LAST-MODIFIED:20210318T161828Z
UID:6659-1616371200-1622851199@humanidades.mdp.edu.ar
SUMMARY:Oferta Académica de posgrado
DESCRIPTION:22 de marzo al 04 de junio (segundo cuatrimestre)
URL:https://humanidades.mdp.edu.ar/actividad/oferta-academica-de-posgrado/
CATEGORIES:Calendario administrativo
END:VEVENT
BEGIN:VEVENT
DTSTART;VALUE=DATE:20210328
DTEND;VALUE=DATE:20210329
DTSTAMP:20260422T142449
CREATED:20210318T163132Z
LAST-MODIFIED:20210318T163132Z
UID:6688-1616889600-1616975999@humanidades.mdp.edu.ar
SUMMARY:Alumnos Vocacionales Extranjeros (Disposición No 20699 de la DNM)
DESCRIPTION:Previo al inicio de cada cuatrimestre\, en los términos de la OCA 2391/20
URL:https://humanidades.mdp.edu.ar/actividad/alumnos-vocacionales-extranjeros-disposicion-no-20699-de-la-dnm-3/
CATEGORIES:Calendario administrativo
END:VEVENT
BEGIN:VEVENT
DTSTART;VALUE=DATE:20210328
DTEND;VALUE=DATE:20210329
DTSTAMP:20260422T142449
CREATED:20210318T163450Z
LAST-MODIFIED:20210318T163450Z
UID:6696-1616889600-1616975999@humanidades.mdp.edu.ar
SUMMARY:Alumnos Vocacionales Nacionales (OCA No 777/94\, modificatorias y complementarias)
DESCRIPTION:Previo al inicio de cada cuatrimestre\, en los términos de la OCA 2391/20
URL:https://humanidades.mdp.edu.ar/actividad/alumnos-vocacionales-nacionales-oca-no-777-94-modificatorias-y-complementarias-4/
CATEGORIES:Calendario administrativo
END:VEVENT
BEGIN:VEVENT
DTSTART;VALUE=DATE:20210328
DTEND;VALUE=DATE:20210329
DTSTAMP:20260422T142449
CREATED:20210318T163658Z
LAST-MODIFIED:20210318T163658Z
UID:6700-1616889600-1616975999@humanidades.mdp.edu.ar
SUMMARY:Asignaturas Optativas (OCS No 554/93 y 743/01)
DESCRIPTION:(Previa aprobación circuito virtual)* Previo al inicio de cada cuatrimestre\, en los términos de la OCA 2391/20 \n*Donde se menciona “Previa aprobación circuito virtual” queremos decir que se está trabajando\nen la implementación de un circuito virtual para dichos trámites y que será informado a la\nbrevedad.
URL:https://humanidades.mdp.edu.ar/actividad/asignaturas-optativas-ocs-no-554-93-y-743-01-3/
CATEGORIES:Calendario administrativo
END:VEVENT
BEGIN:VEVENT
DTSTART;VALUE=DATE:20210329
DTEND;VALUE=DATE:20210330
DTSTAMP:20260422T142449
CREATED:20200413T190911Z
LAST-MODIFIED:20210209T170617Z
UID:5552-1616976000-1617062399@humanidades.mdp.edu.ar
SUMMARY:Inicio de clases – 1er cuatrimestre 2021
DESCRIPTION:Inicio de clases: 29/03/21 para todas las carreras
URL:https://humanidades.mdp.edu.ar/actividad/inicio-de-clases-2021/
LOCATION:Facultad de Humanidades – Sede Complejo Universitario\, Funes 3350\, Mar del Plata\, Buenos Aires\, 7600\, Argentina
CATEGORIES:Calendario académico
END:VEVENT
END:VCALENDAR