BEGIN:VCALENDAR
VERSION:2.0
PRODID:-//Facultad de Humanidades - ECPv6.15.20//NONSGML v1.0//EN
CALSCALE:GREGORIAN
METHOD:PUBLISH
X-WR-CALNAME:Facultad de Humanidades
X-ORIGINAL-URL:https://humanidades.mdp.edu.ar
X-WR-CALDESC:Eventos para Facultad de Humanidades
REFRESH-INTERVAL;VALUE=DURATION:PT1H
X-Robots-Tag:noindex
X-PUBLISHED-TTL:PT1H
BEGIN:VTIMEZONE
TZID:America/Argentina/Buenos_Aires
BEGIN:STANDARD
TZOFFSETFROM:-0300
TZOFFSETTO:-0300
TZNAME:-03
DTSTART:20230101T000000
END:STANDARD
END:VTIMEZONE
BEGIN:VEVENT
DTSTART;VALUE=DATE:20240408
DTEND;VALUE=DATE:20240608
DTSTAMP:20260420T023019
CREATED:20240321T174350Z
LAST-MODIFIED:20240321T174409Z
UID:14935-1712534400-1717804799@humanidades.mdp.edu.ar
SUMMARY:Oferta Académica de posgrado - Segundo Cuatrimestre 2024
DESCRIPTION:
URL:https://humanidades.mdp.edu.ar/actividad/oferta-academica-de-posgrado-5/
CATEGORIES:Calendario administrativo
END:VEVENT
BEGIN:VEVENT
DTSTART;VALUE=DATE:20240501
DTEND;VALUE=DATE:20240502
DTSTAMP:20260420T023019
CREATED:20231226T171945Z
LAST-MODIFIED:20231226T171945Z
UID:13823-1714521600-1714607999@humanidades.mdp.edu.ar
SUMMARY:Día del Trabajador
DESCRIPTION:Miércoles 1 de mayo\nDía del Trabajador.
URL:https://humanidades.mdp.edu.ar/actividad/dia-del-trabajador-2/
CATEGORIES:Calendario académico
END:VEVENT
BEGIN:VEVENT
DTSTART;VALUE=DATE:20240502
DTEND;VALUE=DATE:20240701
DTSTAMP:20260420T023019
CREATED:20240321T174550Z
LAST-MODIFIED:20240321T174550Z
UID:14941-1714608000-1719791999@humanidades.mdp.edu.ar
SUMMARY:Incorporaciones a Grupos de Investigación
DESCRIPTION:
URL:https://humanidades.mdp.edu.ar/actividad/incorporaciones-a-grupos-de-investigacion-7/
CATEGORIES:Calendario administrativo
END:VEVENT
BEGIN:VEVENT
DTSTART;VALUE=DATE:20240502
DTEND;VALUE=DATE:20240701
DTSTAMP:20260420T023019
CREATED:20240321T174636Z
LAST-MODIFIED:20240321T174636Z
UID:14945-1714608000-1719791999@humanidades.mdp.edu.ar
SUMMARY:Incorporaciones a Grupos de Extensión
DESCRIPTION:
URL:https://humanidades.mdp.edu.ar/actividad/incorporaciones-a-grupos-de-extension-7/
CATEGORIES:Calendario administrativo
END:VEVENT
BEGIN:VEVENT
DTSTART;VALUE=DATE:20240506
DTEND;VALUE=DATE:20240511
DTSTAMP:20260420T023019
CREATED:20231226T172434Z
LAST-MODIFIED:20231226T172434Z
UID:13832-1714953600-1715385599@humanidades.mdp.edu.ar
SUMMARY:Fecha límite para pedido de altas y excepciones
DESCRIPTION:06 al 10/05\nFecha límite para pedido de altas y excepciones
URL:https://humanidades.mdp.edu.ar/actividad/fecha-limite-para-pedido-de-altas-y-excepciones-14/
CATEGORIES:Calendario académico
END:VEVENT
BEGIN:VEVENT
DTSTART;VALUE=DATE:20240513
DTEND;VALUE=DATE:20240525
DTSTAMP:20260420T023019
CREATED:20231226T171546Z
LAST-MODIFIED:20231226T171900Z
UID:13820-1715558400-1716595199@humanidades.mdp.edu.ar
SUMMARY:Turno de exámenes mayo - Presencial
DESCRIPTION:13/05 al 17/05\nTodas las carreras modalidad presencial. \n20 AL 24/05\nToma de finales\, estudiantes de distancia. Bibliotecario escolar. Licenciatura en Bibliotecología y Documentación- ciclo de licenciatura.
URL:https://humanidades.mdp.edu.ar/actividad/turno-de-examenes-mayo-presencial/
CATEGORIES:Calendario académico
END:VEVENT
BEGIN:VEVENT
DTSTART;VALUE=DATE:20240525
DTEND;VALUE=DATE:20240526
DTSTAMP:20260420T023019
CREATED:20231226T172049Z
LAST-MODIFIED:20231226T172049Z
UID:13825-1716595200-1716681599@humanidades.mdp.edu.ar
SUMMARY:Día de la Revolución de Mayo
DESCRIPTION:Sábado 25 de mayo\nDía de la Revolución de Mayo.
URL:https://humanidades.mdp.edu.ar/actividad/dia-de-la-revolucion-de-mayo-2/
CATEGORIES:Calendario académico
END:VEVENT
END:VCALENDAR