BEGIN:VCALENDAR
VERSION:2.0
PRODID:-//Facultad de Humanidades - ECPv6.15.20//NONSGML v1.0//EN
CALSCALE:GREGORIAN
METHOD:PUBLISH
X-ORIGINAL-URL:https://humanidades.mdp.edu.ar
X-WR-CALDESC:Eventos para Facultad de Humanidades
REFRESH-INTERVAL;VALUE=DURATION:PT1H
X-Robots-Tag:noindex
X-PUBLISHED-TTL:PT1H
BEGIN:VTIMEZONE
TZID:America/Argentina/Buenos_Aires
BEGIN:STANDARD
TZOFFSETFROM:-0300
TZOFFSETTO:-0300
TZNAME:-03
DTSTART:20190101T000000
END:STANDARD
END:VTIMEZONE
BEGIN:VEVENT
DTSTART;VALUE=DATE:20201204
DTEND;VALUE=DATE:20201205
DTSTAMP:20260421T212317
CREATED:20200413T190323Z
LAST-MODIFIED:20200812T235212Z
UID:5541-1607040000-1607126399@humanidades.mdp.edu.ar
SUMMARY:Finalización de clases - 2do cuatrimestre 2020 (OCA N° 1875/20 y OCA 2160/20)
DESCRIPTION:Finalización: 4 de diciembre de 2020 (OCA N° 1875/20 y OCA N° 2160/20)
URL:https://humanidades.mdp.edu.ar/actividad/finalizacion-del-segundo-cuatrimestre-2020/
LOCATION:Facultad de Humanidades – Sede Complejo Universitario\, Funes 3350\, Mar del Plata\, Buenos Aires\, 7600\, Argentina
CATEGORIES:Calendario académico
END:VEVENT
BEGIN:VEVENT
DTSTART;VALUE=DATE:20201207
DTEND;VALUE=DATE:20201219
DTSTAMP:20260421T212317
CREATED:20200413T190209Z
LAST-MODIFIED:20200413T193157Z
UID:5539-1607299200-1608335999@humanidades.mdp.edu.ar
SUMMARY:Turno de exámenes − Diciembre 2020
DESCRIPTION:07/12 al 11/12: Historia – Geografía – Lenguas Modernas – Ciencias de la Información – Práctica\nSocio Comunitaria\n12/12: Bibes – Licad\n14/12 al 18/12: Letras – Filosofía – Sociología – Ciencias de la Educación – Ciencias Políticas\nLas mesas del 07 y 08/12 se trasladan al 14 y 15/12.
URL:https://humanidades.mdp.edu.ar/actividad/turno-de-examenes-%e2%88%92-diciembre-2020/
LOCATION:Facultad de Humanidades – Sede Complejo Universitario\, Funes 3350\, Mar del Plata\, Buenos Aires\, 7600\, Argentina
CATEGORIES:Calendario académico
END:VEVENT
BEGIN:VEVENT
DTSTART;VALUE=DATE:20201211
DTEND;VALUE=DATE:20201212
DTSTAMP:20260421T212317
CREATED:20200413T190401Z
LAST-MODIFIED:20200812T235247Z
UID:5543-1607644800-1607731199@humanidades.mdp.edu.ar
SUMMARY:Entrega de regularidades – 2do cuatrimestre (OCA N°1875/20)
DESCRIPTION:Entrega de regularidades: 11 de diciembre (OCA N° 1875/20)
URL:https://humanidades.mdp.edu.ar/actividad/entrega-de-regularidades-3/
LOCATION:Facultad de Humanidades – Sede Complejo Universitario\, Funes 3350\, Mar del Plata\, Buenos Aires\, 7600\, Argentina
CATEGORIES:Calendario académico
END:VEVENT
END:VCALENDAR