BEGIN:VCALENDAR
VERSION:2.0
PRODID:-//Facultad de Humanidades - ECPv6.15.20//NONSGML v1.0//EN
CALSCALE:GREGORIAN
METHOD:PUBLISH
X-WR-CALNAME:Facultad de Humanidades
X-ORIGINAL-URL:https://humanidades.mdp.edu.ar
X-WR-CALDESC:Eventos para Facultad de Humanidades
REFRESH-INTERVAL;VALUE=DURATION:PT1H
X-Robots-Tag:noindex
X-PUBLISHED-TTL:PT1H
BEGIN:VTIMEZONE
TZID:America/Argentina/Buenos_Aires
BEGIN:STANDARD
TZOFFSETFROM:-0300
TZOFFSETTO:-0300
TZNAME:-03
DTSTART:20200101T000000
END:STANDARD
END:VTIMEZONE
BEGIN:VEVENT
DTSTART;VALUE=DATE:20210802
DTEND;VALUE=DATE:20210814
DTSTAMP:20260421T061550
CREATED:20210226T203524Z
LAST-MODIFIED:20210303T164305Z
UID:6375-1627862400-1628899199@humanidades.mdp.edu.ar
SUMMARY:Inscripción a cursadas – 2do cuatrimestre 2021
DESCRIPTION:Inscripción a cursadas: 02/08 al 13/08 para todas las carreras
URL:https://humanidades.mdp.edu.ar/actividad/inscripcion-a-cursadas-2do-cuatrimestre-2021/
CATEGORIES:Calendario académico
END:VEVENT
BEGIN:VEVENT
DTSTART;VALUE=DATE:20210802
DTEND;VALUE=DATE:20210807
DTSTAMP:20260421T061550
CREATED:20210226T203630Z
LAST-MODIFIED:20210303T164243Z
UID:6377-1627862400-1628294399@humanidades.mdp.edu.ar
SUMMARY:Inscripción de alumnos vocacionales nacionales y extranjeros – 2do cuatrimestre 2021
DESCRIPTION:Inscripción de alumnos vocacionales nacionales (OCA Nº 777/94) y extranjeros (Disp. Nº\n20699 de la DNM) 02 al 06 de agosto.
URL:https://humanidades.mdp.edu.ar/actividad/inscripcion-de-alumnos-vocacionales-nacionales-y-extranjeros-2do-cuatrimestre-2021/
CATEGORIES:Calendario académico
END:VEVENT
BEGIN:VEVENT
DTSTART;VALUE=DATE:20210802
DTEND;VALUE=DATE:20210807
DTSTAMP:20260421T061550
CREATED:20210226T203714Z
LAST-MODIFIED:20210303T164259Z
UID:6379-1627862400-1628294399@humanidades.mdp.edu.ar
SUMMARY:Inscripción de estudiantes a asignaturas optativas – 2do cuatrimestre 2021
DESCRIPTION:Inscripción de estudiantes a asignaturas optativas (OCS Nros. 554/93 y OCA 2184/16): 02 al\n06 de agosto.
URL:https://humanidades.mdp.edu.ar/actividad/inscripcion-de-estudiantes-a-asignaturas-optativas-2do-cuatrimestre-2021/
CATEGORIES:Calendario académico
END:VEVENT
BEGIN:VEVENT
DTSTART;VALUE=DATE:20210817
DTEND;VALUE=DATE:20210831
DTSTAMP:20260421T061550
CREATED:20210226T203919Z
LAST-MODIFIED:20210715T011609Z
UID:6383-1629158400-1630367999@humanidades.mdp.edu.ar
SUMMARY:Turno de exámenes - Agosto 2021
DESCRIPTION:MODIFICACIÓN: 17/8 al 30/8 \n————————————————————– \n\n9/08 al 13/08: Historia – Geografía – Lenguas Modernas – Ciencias de la Información – Práctica Socio Comunitaria\n4/08: Bibes- Licad\n17/08 al 23/08: Letras – Filosofía – Sociología – Ciencias de la Educación – Ciencia Política\nEl asueto del 17 de agosto se traslada al 16/08
URL:https://humanidades.mdp.edu.ar/actividad/turno-de-examenes-agosto/
CATEGORIES:Calendario académico
END:VEVENT
BEGIN:VEVENT
DTSTART;VALUE=DATE:20210830
DTEND;VALUE=DATE:20210831
DTSTAMP:20260421T061550
CREATED:20210226T203815Z
LAST-MODIFIED:20210715T011341Z
UID:6381-1630281600-1630367999@humanidades.mdp.edu.ar
SUMMARY:Comienzo del segundo cuatrimestre 2021
DESCRIPTION:Comienzo del segundo cuatrimestre: 30/08 para todas las carreras.
URL:https://humanidades.mdp.edu.ar/actividad/comienzo-del-segundo-cuatrimestre-2021/
CATEGORIES:Calendario académico
END:VEVENT
END:VCALENDAR