BEGIN:VCALENDAR
VERSION:2.0
PRODID:-//Facultad de Humanidades - ECPv6.15.20//NONSGML v1.0//EN
CALSCALE:GREGORIAN
METHOD:PUBLISH
X-ORIGINAL-URL:https://humanidades.mdp.edu.ar
X-WR-CALDESC:Eventos para Facultad de Humanidades
REFRESH-INTERVAL;VALUE=DURATION:PT1H
X-Robots-Tag:noindex
X-PUBLISHED-TTL:PT1H
BEGIN:VTIMEZONE
TZID:America/Argentina/Buenos_Aires
BEGIN:STANDARD
TZOFFSETFROM:-0300
TZOFFSETTO:-0300
TZNAME:-03
DTSTART:20200101T000000
END:STANDARD
END:VTIMEZONE
BEGIN:VEVENT
DTSTART;VALUE=DATE:20211001
DTEND;VALUE=DATE:20211005
DTSTAMP:20260421T031209
CREATED:20210226T204059Z
LAST-MODIFIED:20210303T164358Z
UID:6389-1633046400-1633391999@humanidades.mdp.edu.ar
SUMMARY:Turno de exámenes - Octubre
DESCRIPTION:Turno de exámenes octubre: Art. 23 inc. H) “Los alumnos que adeuden menos de 5(cinco)\nmaterias para completar su carrera\, podrán solicitar una mesa examinadora especial a\nconstituirse en los meses de abril y octubre de cada año académico.” Nota: para presentar en el\nperíodo del 01 al 04 de octubre OCA Nº 4173/16
URL:https://humanidades.mdp.edu.ar/actividad/turno-de-examenes-octubre/
CATEGORIES:Calendario académico
END:VEVENT
BEGIN:VEVENT
DTSTART;VALUE=DATE:20211015
DTEND;VALUE=DATE:20211016
DTSTAMP:20260421T031209
CREATED:20210226T204129Z
LAST-MODIFIED:20210303T164406Z
UID:6391-1634256000-1634342399@humanidades.mdp.edu.ar
SUMMARY:Fecha límite para pedido de altas y excepciones
DESCRIPTION:Fecha límite para pedido de altas y excepciones: 15/10
URL:https://humanidades.mdp.edu.ar/actividad/fecha-limite-para-pedido-de-altas-y-excepciones-7/
CATEGORIES:Calendario académico
END:VEVENT
END:VCALENDAR