BEGIN:VCALENDAR
VERSION:2.0
PRODID:-//Facultad de Humanidades - ECPv6.15.20//NONSGML v1.0//EN
CALSCALE:GREGORIAN
METHOD:PUBLISH
X-ORIGINAL-URL:https://humanidades.mdp.edu.ar
X-WR-CALDESC:Eventos para Facultad de Humanidades
REFRESH-INTERVAL;VALUE=DURATION:PT1H
X-Robots-Tag:noindex
X-PUBLISHED-TTL:PT1H
BEGIN:VTIMEZONE
TZID:America/Argentina/Buenos_Aires
BEGIN:STANDARD
TZOFFSETFROM:-0300
TZOFFSETTO:-0300
TZNAME:-03
DTSTART:20210101T000000
END:STANDARD
END:VTIMEZONE
BEGIN:VEVENT
DTSTART;VALUE=DATE:20220214
DTEND;VALUE=DATE:20220226
DTSTAMP:20260420T210857
CREATED:20220215T172455Z
LAST-MODIFIED:20220215T173205Z
UID:7887-1644796800-1645833599@humanidades.mdp.edu.ar
SUMMARY:Turno de exámenes - Febrero 2022
DESCRIPTION:14/02 al 18/02:\nHistoria – Geografía – Lenguas Modernas – Ciencias de la Información – Prácticas Socio – Comunitarias \n19/02:\nBibes – Licad \n21/02 al 25/02:\nLetras – Filosofía – Sociología – Ciencias de la Educación – Ciencia\nPolítica. \n(La mesa del 24 se sustancia el día 31/03)
URL:https://humanidades.mdp.edu.ar/actividad/turno-de-examenes-febrero-2022-2/
CATEGORIES:Calendario académico
END:VEVENT
BEGIN:VEVENT
DTSTART;VALUE=DATE:20220214
DTEND;VALUE=DATE:20220215
DTSTAMP:20260420T210857
CREATED:20220215T172930Z
LAST-MODIFIED:20220215T173610Z
UID:7901-1644796800-1644883199@humanidades.mdp.edu.ar
SUMMARY:Fecha límite para pedido de altas y excepciones - 1er cuatri
DESCRIPTION:14/02
URL:https://humanidades.mdp.edu.ar/actividad/fecha-limite-para-pedido-de-altas-y-excepciones-9/
CATEGORIES:Calendario académico
END:VEVENT
END:VCALENDAR