BEGIN:VCALENDAR
VERSION:2.0
PRODID:-//Facultad de Humanidades - ECPv6.15.20//NONSGML v1.0//EN
CALSCALE:GREGORIAN
METHOD:PUBLISH
X-WR-CALNAME:Facultad de Humanidades
X-ORIGINAL-URL:https://humanidades.mdp.edu.ar
X-WR-CALDESC:Eventos para Facultad de Humanidades
REFRESH-INTERVAL;VALUE=DURATION:PT1H
X-Robots-Tag:noindex
X-PUBLISHED-TTL:PT1H
BEGIN:VTIMEZONE
TZID:America/Argentina/Buenos_Aires
BEGIN:STANDARD
TZOFFSETFROM:-0300
TZOFFSETTO:-0300
TZNAME:-03
DTSTART:20210101T000000
END:STANDARD
END:VTIMEZONE
BEGIN:VEVENT
DTSTART;VALUE=DATE:20221114
DTEND;VALUE=DATE:20221119
DTSTAMP:20260420T010157
CREATED:20220215T174808Z
LAST-MODIFIED:20221004T165159Z
UID:7940-1668384000-1668815999@humanidades.mdp.edu.ar
SUMMARY:Turno de exámenes - Noviembre 2022
DESCRIPTION:Propuesta:\n14/11 al 18/11\nDada la migración y actualización del sistema Siu Guaraní\, por excepción\, en esta mesa se tomaran finales así como también se podran pasar notas.
URL:https://humanidades.mdp.edu.ar/actividad/turno-de-examenes-noviembre-2022/
CATEGORIES:Calendario académico
END:VEVENT
BEGIN:VEVENT
DTSTART;VALUE=DATE:20221125
DTEND;VALUE=DATE:20221126
DTSTAMP:20260420T010157
CREATED:20220215T174840Z
LAST-MODIFIED:20220215T174840Z
UID:7942-1669334400-1669420799@humanidades.mdp.edu.ar
SUMMARY:Asueto académico
DESCRIPTION:25/11 (Día de la NO violencia contra la mujer)
URL:https://humanidades.mdp.edu.ar/actividad/asueto-academico-6/
CATEGORIES:Calendario académico
END:VEVENT
END:VCALENDAR