BEGIN:VCALENDAR
VERSION:2.0
PRODID:-//Facultad de Humanidades - ECPv6.15.20//NONSGML v1.0//EN
CALSCALE:GREGORIAN
METHOD:PUBLISH
X-WR-CALNAME:Facultad de Humanidades
X-ORIGINAL-URL:https://humanidades.mdp.edu.ar
X-WR-CALDESC:Eventos para Facultad de Humanidades
REFRESH-INTERVAL;VALUE=DURATION:PT1H
X-Robots-Tag:noindex
X-PUBLISHED-TTL:PT1H
BEGIN:VTIMEZONE
TZID:America/Argentina/Buenos_Aires
BEGIN:STANDARD
TZOFFSETFROM:-0300
TZOFFSETTO:-0300
TZNAME:-03
DTSTART:20220101T000000
END:STANDARD
END:VTIMEZONE
BEGIN:VEVENT
DTSTART;VALUE=DATE:20230302
DTEND;VALUE=DATE:20230408
DTSTAMP:20260419T163516
CREATED:20220215T175301Z
LAST-MODIFIED:20221227T221251Z
UID:7956-1677715200-1680911999@humanidades.mdp.edu.ar
SUMMARY:Reinscripción anual 2023
DESCRIPTION:02/03 al 07/04\nReinscripción anual para todas las carreras
URL:https://humanidades.mdp.edu.ar/actividad/reinscripcion-anual-2023/
CATEGORIES:Calendario académico
END:VEVENT
BEGIN:VEVENT
DTSTART;VALUE=DATE:20230302
DTEND;VALUE=DATE:20230408
DTSTAMP:20260419T163516
CREATED:20220215T175331Z
LAST-MODIFIED:20221227T221345Z
UID:7958-1677715200-1680911999@humanidades.mdp.edu.ar
SUMMARY:Inscripción de cursadas de estudiantes que cursan de 2º año en adelante
DESCRIPTION:02/03 al 07/04\nInscripción de cursadas de estudiantes que cursan de 2º año en adelante
URL:https://humanidades.mdp.edu.ar/actividad/inscripcion-de-cursadas-de-estudiantes-que-cursan-de-2o-ano-en-adelante/
CATEGORIES:Calendario académico
END:VEVENT
BEGIN:VEVENT
DTSTART;VALUE=DATE:20230401
DTEND;VALUE=DATE:20230411
DTSTAMP:20260419T163516
CREATED:20221227T221916Z
LAST-MODIFIED:20221227T221916Z
UID:11532-1680307200-1681171199@humanidades.mdp.edu.ar
SUMMARY:Inscripción de cursadas de estudiantes ingresantes [todas las carreras y modalidades]
DESCRIPTION:01/04 al 10/04\nInscripción de cursadas de estudiantes ingresantes para todas las carreras y todas las modalidades
URL:https://humanidades.mdp.edu.ar/actividad/inscripcion-de-cursadas-de-estudiantes-ingresantes-todas-las-carreras-y-modalidades/
CATEGORIES:Calendario académico
END:VEVENT
BEGIN:VEVENT
DTSTART;VALUE=DATE:20230406
DTEND;VALUE=DATE:20230407
DTSTAMP:20260419T163516
CREATED:20221227T222856Z
LAST-MODIFIED:20221227T222856Z
UID:11542-1680739200-1680825599@humanidades.mdp.edu.ar
SUMMARY:Jueves Santo Festividad Cristiana
DESCRIPTION:6/04\nFeriado Nacional\, Jueves Santo Festividad Cristiana
URL:https://humanidades.mdp.edu.ar/actividad/jueves-santo-festividad-cristiana/
CATEGORIES:Calendario académico
END:VEVENT
BEGIN:VEVENT
DTSTART;VALUE=DATE:20230424
DTEND;VALUE=DATE:20230429
DTSTAMP:20260419T163516
CREATED:20221227T222753Z
LAST-MODIFIED:20221227T222753Z
UID:11540-1682294400-1682726399@humanidades.mdp.edu.ar
SUMMARY:Turno de exámenes Abril
DESCRIPTION:(Art. 23 inc. H) “Los alumnos que adeuden menos de 5 (cinco) materias para completar su carrera\, podrán solicitar una mesa examinadora especial a constituirse en los meses de abril y octubre de cada año académico”. \nNota: para presentar en el período del 03 al 07 de abril (OCA Nº 4173/16 y OCS 92/22) \nLas mesas se sustanciarán del día 24/4 al 28/4
URL:https://humanidades.mdp.edu.ar/actividad/turno-de-examenes-abril-2/
CATEGORIES:Calendario académico
END:VEVENT
END:VCALENDAR