BEGIN:VCALENDAR
VERSION:2.0
PRODID:-//Facultad de Humanidades - ECPv6.15.20//NONSGML v1.0//EN
CALSCALE:GREGORIAN
METHOD:PUBLISH
X-WR-CALNAME:Facultad de Humanidades
X-ORIGINAL-URL:https://humanidades.mdp.edu.ar
X-WR-CALDESC:Eventos para Facultad de Humanidades
REFRESH-INTERVAL;VALUE=DURATION:PT1H
X-Robots-Tag:noindex
X-PUBLISHED-TTL:PT1H
BEGIN:VTIMEZONE
TZID:America/Argentina/Buenos_Aires
BEGIN:STANDARD
TZOFFSETFROM:-0300
TZOFFSETTO:-0300
TZNAME:-03
DTSTART:20220101T000000
END:STANDARD
END:VTIMEZONE
BEGIN:VEVENT
DTSTART;VALUE=DATE:20230501
DTEND;VALUE=DATE:20230502
DTSTAMP:20260419T145844
CREATED:20221227T223121Z
LAST-MODIFIED:20221227T223121Z
UID:11548-1682899200-1682985599@humanidades.mdp.edu.ar
SUMMARY:Día del Trabajador
DESCRIPTION:1/05\nFeriado Nacional\, Día del Trabajador
URL:https://humanidades.mdp.edu.ar/actividad/dia-del-trabajador/
CATEGORIES:Calendario académico
END:VEVENT
BEGIN:VEVENT
DTSTART;VALUE=DATE:20230515
DTEND;VALUE=DATE:20230520
DTSTAMP:20260419T145844
CREATED:20221227T223027Z
LAST-MODIFIED:20221227T223027Z
UID:11546-1684108800-1684540799@humanidades.mdp.edu.ar
SUMMARY:Turno de exámenes Mayo
DESCRIPTION:15/05 al 19/05\nEn este llamado sólo se pasan notas finales en las materias promocionales de las carreras presenciales\, no se toman finales. \n15/05 al 19/05\nToma de finales exclusivo para estudiantes de Educación a Distancia (BIBES-LICAD)
URL:https://humanidades.mdp.edu.ar/actividad/turno-de-examenes-mayo-3/
CATEGORIES:Calendario académico
END:VEVENT
BEGIN:VEVENT
DTSTART;VALUE=DATE:20230525
DTEND;VALUE=DATE:20230526
DTSTAMP:20260419T145844
CREATED:20221227T223150Z
LAST-MODIFIED:20221227T223150Z
UID:11550-1684972800-1685059199@humanidades.mdp.edu.ar
SUMMARY:Día de la Revolución de Mayo
DESCRIPTION:25/05\nFeriado Nacional\, Día de la Revolución de Mayo
URL:https://humanidades.mdp.edu.ar/actividad/dia-de-la-revolucion-de-mayo/
CATEGORIES:Calendario académico
END:VEVENT
BEGIN:VEVENT
DTSTART;VALUE=DATE:20230526
DTEND;VALUE=DATE:20230527
DTSTAMP:20260419T145844
CREATED:20221227T223218Z
LAST-MODIFIED:20221227T223227Z
UID:11552-1685059200-1685145599@humanidades.mdp.edu.ar
SUMMARY:Feriado con fines turísticos
DESCRIPTION:26/05\nFeriado Nacional\, Feriado con fines turísticos
URL:https://humanidades.mdp.edu.ar/actividad/feriado-con-fines-turisticos/
CATEGORIES:Calendario académico
END:VEVENT
END:VCALENDAR