BEGIN:VCALENDAR
VERSION:2.0
PRODID:-//Facultad de Humanidades - ECPv6.15.20//NONSGML v1.0//EN
CALSCALE:GREGORIAN
METHOD:PUBLISH
X-WR-CALNAME:Facultad de Humanidades
X-ORIGINAL-URL:https://humanidades.mdp.edu.ar
X-WR-CALDESC:Eventos para Facultad de Humanidades
REFRESH-INTERVAL;VALUE=DURATION:PT1H
X-Robots-Tag:noindex
X-PUBLISHED-TTL:PT1H
BEGIN:VTIMEZONE
TZID:America/Argentina/Buenos_Aires
BEGIN:STANDARD
TZOFFSETFROM:-0300
TZOFFSETTO:-0300
TZNAME:-03
DTSTART:20220101T000000
END:STANDARD
END:VTIMEZONE
BEGIN:VEVENT
DTSTART;VALUE=DATE:20230617
DTEND;VALUE=DATE:20230618
DTSTAMP:20260419T131649
CREATED:20221227T223526Z
LAST-MODIFIED:20221227T223526Z
UID:11562-1686960000-1687046399@humanidades.mdp.edu.ar
SUMMARY:Paso a la Inmortalidad del Gral. Don Martín Miguel de Güemes
DESCRIPTION:17/06\nFeriado Nacional\, Paso a la Inmortalidad del Gral. Don Martín Miguel de Güemes
URL:https://humanidades.mdp.edu.ar/actividad/paso-a-la-inmortalidad-del-gral-don-martin-miguel-de-guemes/
CATEGORIES:Calendario académico
END:VEVENT
BEGIN:VEVENT
DTSTART;VALUE=DATE:20230619
DTEND;VALUE=DATE:20230620
DTSTAMP:20260419T131649
CREATED:20221227T223630Z
LAST-MODIFIED:20221227T223630Z
UID:11566-1687132800-1687219199@humanidades.mdp.edu.ar
SUMMARY:Feriado con fines turísticos
DESCRIPTION:19/06\nFeriado Nacional\, Feriado con fines turísticos
URL:https://humanidades.mdp.edu.ar/actividad/feriado-con-fines-turisticos-2/
CATEGORIES:Calendario académico
END:VEVENT
BEGIN:VEVENT
DTSTART;VALUE=DATE:20230620
DTEND;VALUE=DATE:20230621
DTSTAMP:20260419T131649
CREATED:20221227T223557Z
LAST-MODIFIED:20221227T223557Z
UID:11564-1687219200-1687305599@humanidades.mdp.edu.ar
SUMMARY:Paso a la Inmortalidad del Gral. Manuel Belgrano
DESCRIPTION:20/06\nFeriado Nacional\, Paso a la Inmortalidad del Gral. Manuel Belgrano
URL:https://humanidades.mdp.edu.ar/actividad/paso-a-la-inmortalidad-del-gral-manuel-belgrano/
CATEGORIES:Calendario académico
END:VEVENT
BEGIN:VEVENT
DTSTART;VALUE=DATE:20230623
DTEND;VALUE=DATE:20230624
DTSTAMP:20260419T131649
CREATED:20221227T223436Z
LAST-MODIFIED:20221227T223436Z
UID:11560-1687478400-1687564799@humanidades.mdp.edu.ar
SUMMARY:Fecha límite para pedido de altas y excepciones
DESCRIPTION:23/06
URL:https://humanidades.mdp.edu.ar/actividad/fecha-limite-para-pedido-de-altas-y-excepciones-8/
CATEGORIES:Calendario académico
END:VEVENT
END:VCALENDAR