BEGIN:VCALENDAR
VERSION:2.0
PRODID:-//Facultad de Humanidades - ECPv6.15.20//NONSGML v1.0//EN
CALSCALE:GREGORIAN
METHOD:PUBLISH
X-WR-CALNAME:Facultad de Humanidades
X-ORIGINAL-URL:https://humanidades.mdp.edu.ar
X-WR-CALDESC:Eventos para Facultad de Humanidades
REFRESH-INTERVAL;VALUE=DURATION:PT1H
X-Robots-Tag:noindex
X-PUBLISHED-TTL:PT1H
BEGIN:VTIMEZONE
TZID:America/Argentina/Buenos_Aires
BEGIN:STANDARD
TZOFFSETFROM:-0300
TZOFFSETTO:-0300
TZNAME:-03
DTSTART:20190101T000000
END:STANDARD
END:VTIMEZONE
BEGIN:VEVENT
DTSTART;VALUE=DATE:20201204
DTEND;VALUE=DATE:20201205
DTSTAMP:20260421T234628
CREATED:20200413T190323Z
LAST-MODIFIED:20200812T235212Z
UID:5541-1607040000-1607126399@humanidades.mdp.edu.ar
SUMMARY:Finalización de clases - 2do cuatrimestre 2020 (OCA N° 1875/20 y OCA 2160/20)
DESCRIPTION:Finalización: 4 de diciembre de 2020 (OCA N° 1875/20 y OCA N° 2160/20)
URL:https://humanidades.mdp.edu.ar/actividad/finalizacion-del-segundo-cuatrimestre-2020/
LOCATION:Facultad de Humanidades – Sede Complejo Universitario\, Funes 3350\, Mar del Plata\, Buenos Aires\, 7600\, Argentina
CATEGORIES:Calendario académico
END:VEVENT
END:VCALENDAR