BEGIN:VCALENDAR
VERSION:2.0
PRODID:-//Facultad de Humanidades - ECPv6.15.20//NONSGML v1.0//EN
CALSCALE:GREGORIAN
METHOD:PUBLISH
X-WR-CALNAME:Facultad de Humanidades
X-ORIGINAL-URL:https://humanidades.mdp.edu.ar
X-WR-CALDESC:Eventos para Facultad de Humanidades
REFRESH-INTERVAL;VALUE=DURATION:PT1H
X-Robots-Tag:noindex
X-PUBLISHED-TTL:PT1H
BEGIN:VTIMEZONE
TZID:America/Argentina/Buenos_Aires
BEGIN:STANDARD
TZOFFSETFROM:-0300
TZOFFSETTO:-0300
TZNAME:-03
DTSTART:20200101T000000
END:STANDARD
END:VTIMEZONE
BEGIN:VEVENT
DTSTART;VALUE=DATE:20210503
DTEND;VALUE=DATE:20210509
DTSTAMP:20260421T141147
CREATED:20210226T202754Z
LAST-MODIFIED:20210303T164128Z
UID:6361-1620000000-1620518399@humanidades.mdp.edu.ar
SUMMARY:Turno de exámenes − Mayo 2021
DESCRIPTION:03/05 al 08/05 En este llamado solo se pasan notas finales en las materias promocionales
URL:https://humanidades.mdp.edu.ar/actividad/turno-de-examenes-%e2%88%92-mayo-2021/
CATEGORIES:Calendario académico
END:VEVENT
END:VCALENDAR