BEGIN:VCALENDAR
VERSION:2.0
PRODID:-//Facultad de Humanidades - ECPv6.15.20//NONSGML v1.0//EN
CALSCALE:GREGORIAN
METHOD:PUBLISH
X-WR-CALNAME:Facultad de Humanidades
X-ORIGINAL-URL:https://humanidades.mdp.edu.ar
X-WR-CALDESC:Eventos para Facultad de Humanidades
REFRESH-INTERVAL;VALUE=DURATION:PT1H
X-Robots-Tag:noindex
X-PUBLISHED-TTL:PT1H
BEGIN:VTIMEZONE
TZID:America/Argentina/Buenos_Aires
BEGIN:STANDARD
TZOFFSETFROM:-0300
TZOFFSETTO:-0300
TZNAME:-03
DTSTART:20200101T000000
END:STANDARD
END:VTIMEZONE
BEGIN:VEVENT
DTSTART;VALUE=DATE:20210603
DTEND;VALUE=DATE:20210604
DTSTAMP:20260421T123553
CREATED:20210226T202824Z
LAST-MODIFIED:20210303T164141Z
UID:6363-1622678400-1622764799@humanidades.mdp.edu.ar
SUMMARY:ASUETO ACADÉMICO: 3/6 (NI UNA MENOS)
DESCRIPTION:ASUETO ACADÉMICO: 3/6 (NI UNA MENOS)
URL:https://humanidades.mdp.edu.ar/actividad/asueto-academico-3-6-ni-una-menos/
CATEGORIES:Calendario académico
END:VEVENT
END:VCALENDAR