BEGIN:VCALENDAR
VERSION:2.0
PRODID:-//Facultad de Humanidades - ECPv6.15.20//NONSGML v1.0//EN
CALSCALE:GREGORIAN
METHOD:PUBLISH
X-ORIGINAL-URL:https://humanidades.mdp.edu.ar
X-WR-CALDESC:Eventos para Facultad de Humanidades
REFRESH-INTERVAL;VALUE=DURATION:PT1H
X-Robots-Tag:noindex
X-PUBLISHED-TTL:PT1H
BEGIN:VTIMEZONE
TZID:America/Argentina/Buenos_Aires
BEGIN:STANDARD
TZOFFSETFROM:-0300
TZOFFSETTO:-0300
TZNAME:-03
DTSTART:20200101T000000
END:STANDARD
END:VTIMEZONE
BEGIN:VEVENT
DTSTART;VALUE=DATE:20210621
DTEND;VALUE=DATE:20210703
DTSTAMP:20260421T105917
CREATED:20210226T203036Z
LAST-MODIFIED:20210303T164155Z
UID:6365-1624233600-1625270399@humanidades.mdp.edu.ar
SUMMARY:Turno de exámenes - Junio/Julio 2021
DESCRIPTION:21/06 al 25/06: Historia- Geografía- Lenguas Modernas- Ciencias de la Información – Práctica\nSocio Comunitaria\n26/06: Bibes- Licad\n28/06 al 02/07: Letras- Filosofía- Sociología- Ciencias de la Educación- Ciencia Política
URL:https://humanidades.mdp.edu.ar/actividad/turno-de-examenes-junio-julio/
CATEGORIES:Calendario académico
END:VEVENT
END:VCALENDAR