BEGIN:VCALENDAR
VERSION:2.0
PRODID:-//Facultad de Humanidades - ECPv6.15.20//NONSGML v1.0//EN
CALSCALE:GREGORIAN
METHOD:PUBLISH
X-WR-CALNAME:Facultad de Humanidades
X-ORIGINAL-URL:https://humanidades.mdp.edu.ar
X-WR-CALDESC:Eventos para Facultad de Humanidades
REFRESH-INTERVAL;VALUE=DURATION:PT1H
X-Robots-Tag:noindex
X-PUBLISHED-TTL:PT1H
BEGIN:VTIMEZONE
TZID:America/Argentina/Buenos_Aires
BEGIN:STANDARD
TZOFFSETFROM:-0300
TZOFFSETTO:-0300
TZNAME:-03
DTSTART:20200101T000000
END:STANDARD
END:VTIMEZONE
BEGIN:VEVENT
DTSTART;VALUE=DATE:20211101
DTEND;VALUE=DATE:20211120
DTSTAMP:20260421T025302
CREATED:20210226T204221Z
LAST-MODIFIED:20210303T164421Z
UID:6393-1635724800-1637366399@humanidades.mdp.edu.ar
SUMMARY:Turno de exámenes - Noviembre
DESCRIPTION:01/11 al 05/11: Historia – Geografía – Lenguas Modernas – Ciencias de la Información – Práctica\nSocio Comunitaria\n08/11: Bibes – Licad\n15/11 al 19/11: Letras – Filosofía – Sociología – Ciencias de la Educación – Ciencia Política
URL:https://humanidades.mdp.edu.ar/actividad/turno-de-examenes-noviembre/
CATEGORIES:Calendario académico
END:VEVENT
END:VCALENDAR