BEGIN:VCALENDAR
VERSION:2.0
PRODID:-//Facultad de Humanidades - ECPv6.15.20//NONSGML v1.0//EN
CALSCALE:GREGORIAN
METHOD:PUBLISH
X-ORIGINAL-URL:https://humanidades.mdp.edu.ar
X-WR-CALDESC:Eventos para Facultad de Humanidades
REFRESH-INTERVAL;VALUE=DURATION:PT1H
X-Robots-Tag:noindex
X-PUBLISHED-TTL:PT1H
BEGIN:VTIMEZONE
TZID:America/Argentina/Buenos_Aires
BEGIN:STANDARD
TZOFFSETFROM:-0300
TZOFFSETTO:-0300
TZNAME:-03
DTSTART:20210101T000000
END:STANDARD
END:VTIMEZONE
BEGIN:VEVENT
DTSTART;VALUE=DATE:20220603
DTEND;VALUE=DATE:20220604
DTSTAMP:20260420T172840
CREATED:20220215T173902Z
LAST-MODIFIED:20220215T173902Z
UID:7914-1654214400-1654300799@humanidades.mdp.edu.ar
SUMMARY:Asueto académico
DESCRIPTION:ASUETO ACADÉMICO: 3/6 (NI UNA MENOS)
URL:https://humanidades.mdp.edu.ar/actividad/asueto-academico-4/
CATEGORIES:Calendario académico
END:VEVENT
END:VCALENDAR