BEGIN:VCALENDAR
VERSION:2.0
PRODID:-//Facultad de Humanidades - ECPv6.15.20//NONSGML v1.0//EN
CALSCALE:GREGORIAN
METHOD:PUBLISH
X-WR-CALNAME:Facultad de Humanidades
X-ORIGINAL-URL:https://humanidades.mdp.edu.ar
X-WR-CALDESC:Eventos para Facultad de Humanidades
REFRESH-INTERVAL;VALUE=DURATION:PT1H
X-Robots-Tag:noindex
X-PUBLISHED-TTL:PT1H
BEGIN:VTIMEZONE
TZID:America/Argentina/Buenos_Aires
BEGIN:STANDARD
TZOFFSETFROM:-0300
TZOFFSETTO:-0300
TZNAME:-03
DTSTART:20210101T000000
END:STANDARD
END:VTIMEZONE
BEGIN:VEVENT
DTSTART;VALUE=DATE:20220718
DTEND;VALUE=DATE:20220730
DTSTAMP:20260420T154451
CREATED:20220215T174213Z
LAST-MODIFIED:20220215T174213Z
UID:7924-1658102400-1659139199@humanidades.mdp.edu.ar
SUMMARY:Receso de invierno
DESCRIPTION:18/07 al 29/07
URL:https://humanidades.mdp.edu.ar/actividad/receso-de-invierno-2/
CATEGORIES:Calendario académico
END:VEVENT
END:VCALENDAR