BEGIN:VCALENDAR
VERSION:2.0
PRODID:-//Facultad de Humanidades - ECPv6.15.20//NONSGML v1.0//EN
CALSCALE:GREGORIAN
METHOD:PUBLISH
X-ORIGINAL-URL:https://humanidades.mdp.edu.ar
X-WR-CALDESC:Eventos para Facultad de Humanidades
REFRESH-INTERVAL;VALUE=DURATION:PT1H
X-Robots-Tag:noindex
X-PUBLISHED-TTL:PT1H
BEGIN:VTIMEZONE
TZID:America/Argentina/Buenos_Aires
BEGIN:STANDARD
TZOFFSETFROM:-0300
TZOFFSETTO:-0300
TZNAME:-03
DTSTART:20220101T000000
END:STANDARD
END:VTIMEZONE
BEGIN:VEVENT
DTSTART;VALUE=DATE:20230301
DTEND;VALUE=DATE:20230401
DTSTAMP:20260419T194743
CREATED:20220215T175529Z
LAST-MODIFIED:20221227T221542Z
UID:7964-1677628800-1680307199@humanidades.mdp.edu.ar
SUMMARY:Inscripción de alumnos vocacionales nacionales y extranjeros – 1er cuatri
DESCRIPTION:01/03 al 31/03\nInscripción de alumnos vocacionales nacionales (OCS 92/22) y extranjeros (Disp. Nº 2040/19 de la DNM)
URL:https://humanidades.mdp.edu.ar/actividad/inscripcion-de-alumnos-vocacionales-nacionales-y-extranjeros-1er-cuatri/
CATEGORIES:Calendario académico
END:VEVENT
BEGIN:VEVENT
DTSTART;VALUE=DATE:20230301
DTEND;VALUE=DATE:20230401
DTSTAMP:20260419T194743
CREATED:20220215T175615Z
LAST-MODIFIED:20221227T221503Z
UID:7966-1677628800-1680307199@humanidades.mdp.edu.ar
SUMMARY:Inscripción de estudiantes a asignaturas optativas – 1er cuatri
DESCRIPTION:01/03 al 31/03\nInscripción de estudiantes a asignaturas optativas (OCS 554/93 y 92/22)
URL:https://humanidades.mdp.edu.ar/actividad/inscripcion-de-estudiantes-a-asignaturas-optativas-1er-cuatri/
CATEGORIES:Calendario académico
END:VEVENT
BEGIN:VEVENT
DTSTART;VALUE=DATE:20230302
DTEND;VALUE=DATE:20230408
DTSTAMP:20260419T194743
CREATED:20220215T175301Z
LAST-MODIFIED:20221227T221251Z
UID:7956-1677715200-1680911999@humanidades.mdp.edu.ar
SUMMARY:Reinscripción anual 2023
DESCRIPTION:02/03 al 07/04\nReinscripción anual para todas las carreras
URL:https://humanidades.mdp.edu.ar/actividad/reinscripcion-anual-2023/
CATEGORIES:Calendario académico
END:VEVENT
BEGIN:VEVENT
DTSTART;VALUE=DATE:20230302
DTEND;VALUE=DATE:20230408
DTSTAMP:20260419T194743
CREATED:20220215T175331Z
LAST-MODIFIED:20221227T221345Z
UID:7958-1677715200-1680911999@humanidades.mdp.edu.ar
SUMMARY:Inscripción de cursadas de estudiantes que cursan de 2º año en adelante
DESCRIPTION:02/03 al 07/04\nInscripción de cursadas de estudiantes que cursan de 2º año en adelante
URL:https://humanidades.mdp.edu.ar/actividad/inscripcion-de-cursadas-de-estudiantes-que-cursan-de-2o-ano-en-adelante/
CATEGORIES:Calendario académico
END:VEVENT
BEGIN:VEVENT
DTSTART;VALUE=DATE:20230320
DTEND;VALUE=DATE:20230401
DTSTAMP:20260419T194743
CREATED:20220215T175228Z
LAST-MODIFIED:20221227T221131Z
UID:7954-1679270400-1680307199@humanidades.mdp.edu.ar
SUMMARY:Turno de exámenes – Marzo 2023
DESCRIPTION:13 al 17/03\nToma de examen para todas las carreras de la MODALIDAD PRESENCIAL \n27/03 al 31/03\nToma de finales\, carreras de la MODALIDAD A DISTANCIA (BIBES – LICAD)
URL:https://humanidades.mdp.edu.ar/actividad/turno-de-examenes-marzo-2023/
CATEGORIES:Calendario académico
END:VEVENT
END:VCALENDAR