BEGIN:VCALENDAR
VERSION:2.0
PRODID:-//Facultad de Humanidades - ECPv6.15.20//NONSGML v1.0//EN
CALSCALE:GREGORIAN
METHOD:PUBLISH
X-WR-CALNAME:Facultad de Humanidades
X-ORIGINAL-URL:https://humanidades.mdp.edu.ar
X-WR-CALDESC:Eventos para Facultad de Humanidades
REFRESH-INTERVAL;VALUE=DURATION:PT1H
X-Robots-Tag:noindex
X-PUBLISHED-TTL:PT1H
BEGIN:VTIMEZONE
TZID:America/Argentina/Buenos_Aires
BEGIN:STANDARD
TZOFFSETFROM:-0300
TZOFFSETTO:-0300
TZNAME:-03
DTSTART:20220101T000000
END:STANDARD
END:VTIMEZONE
BEGIN:VEVENT
DTSTART;VALUE=DATE:20230710
DTEND;VALUE=DATE:20230715
DTSTAMP:20260419T132031
CREATED:20221227T223312Z
LAST-MODIFIED:20221227T223312Z
UID:11554-1688947200-1689379199@humanidades.mdp.edu.ar
SUMMARY:Turno de exámenes Julio
DESCRIPTION:10/07 al 14/07\nTodas las carreras modalidad presencial
URL:https://humanidades.mdp.edu.ar/actividad/turno-de-examenes-julio/
CATEGORIES:Calendario académico
END:VEVENT
END:VCALENDAR