BEGIN:VCALENDAR
VERSION:2.0
PRODID:-//Facultad de Humanidades - ECPv6.15.20//NONSGML v1.0//EN
CALSCALE:GREGORIAN
METHOD:PUBLISH
X-ORIGINAL-URL:https://humanidades.mdp.edu.ar
X-WR-CALDESC:Eventos para Facultad de Humanidades
REFRESH-INTERVAL;VALUE=DURATION:PT1H
X-Robots-Tag:noindex
X-PUBLISHED-TTL:PT1H
BEGIN:VTIMEZONE
TZID:America/Argentina/Buenos_Aires
BEGIN:STANDARD
TZOFFSETFROM:-0300
TZOFFSETTO:-0300
TZNAME:-03
DTSTART:20220101T000000
END:STANDARD
END:VTIMEZONE
BEGIN:VEVENT
DTSTART;VALUE=DATE:20230807
DTEND;VALUE=DATE:20230901
DTSTAMP:20260419T112935
CREATED:20221227T223958Z
LAST-MODIFIED:20221227T224040Z
UID:11576-1691366400-1693526399@humanidades.mdp.edu.ar
SUMMARY:Turno de exámenes agosto
DESCRIPTION:07/08 al 11/08\nTodas las carreras modalidad presencial \n28/08 al 31/08\nEn este llamado sólo se pasan notas finales en las materias promocionales de las carreras a distancia (BIBES-LICAD)
URL:https://humanidades.mdp.edu.ar/actividad/turno-de-examenes-agosto-2/
CATEGORIES:Calendario académico
END:VEVENT
END:VCALENDAR