BEGIN:VCALENDAR
VERSION:2.0
PRODID:-//Facultad de Humanidades - ECPv6.15.20//NONSGML v1.0//EN
CALSCALE:GREGORIAN
METHOD:PUBLISH
X-WR-CALNAME:Facultad de Humanidades
X-ORIGINAL-URL:https://humanidades.mdp.edu.ar
X-WR-CALDESC:Eventos para Facultad de Humanidades
REFRESH-INTERVAL;VALUE=DURATION:PT1H
X-Robots-Tag:noindex
X-PUBLISHED-TTL:PT1H
BEGIN:VTIMEZONE
TZID:America/Argentina/Buenos_Aires
BEGIN:STANDARD
TZOFFSETFROM:-0300
TZOFFSETTO:-0300
TZNAME:-03
DTSTART:20190101T000000
END:STANDARD
END:VTIMEZONE
BEGIN:VEVENT
DTSTART;VALUE=DATE:20200626
DTEND;VALUE=DATE:20200808
DTSTAMP:20260423T030513
CREATED:20200413T205120Z
LAST-MODIFIED:20200618T181038Z
UID:5605-1593129600-1596844799@humanidades.mdp.edu.ar
SUMMARY:Presentación de programas (PTD) − 2do cuatrimestre
DESCRIPTION:Hasta el 26 de junio (presentaciones pendientes del primer cuatrimestre)\nHasta el 07 de agosto (segundo cuatrimestre)* en ambos casos\, por vía de excepción a la normativa vigente
URL:https://humanidades.mdp.edu.ar/actividad/presentacion-de-programas-ptd-%e2%88%92-2do-cuatrimestre/
LOCATION:Facultad de Humanidades – Sede Complejo Universitario\, Funes 3350\, Mar del Plata\, Buenos Aires\, 7600\, Argentina
CATEGORIES:Calendario administrativo
END:VEVENT
BEGIN:VEVENT
DTSTART;VALUE=DATE:20200803
DTEND;VALUE=DATE:20200815
DTSTAMP:20260423T030513
CREATED:20200413T151944Z
LAST-MODIFIED:20200721T132119Z
UID:5497-1596412800-1597449599@humanidades.mdp.edu.ar
SUMMARY:Inscripción a cursadas - 2do cuatrimestre 2020 (OCA Nº1875/20)
DESCRIPTION:Para todas las carreras
URL:https://humanidades.mdp.edu.ar/actividad/inscripcion-a-cursadas-2do-cuatrimestre-2020/
LOCATION:Facultad de Humanidades – Sede Complejo Universitario\, Funes 3350\, Mar del Plata\, Buenos Aires\, 7600\, Argentina
CATEGORIES:Calendario académico
END:VEVENT
BEGIN:VEVENT
DTSTART;VALUE=DATE:20200803
DTEND;VALUE=DATE:20200808
DTSTAMP:20260423T030513
CREATED:20200413T152103Z
LAST-MODIFIED:20200812T234926Z
UID:5500-1596412800-1596844799@humanidades.mdp.edu.ar
SUMMARY:Inscripción de alumnos vocacionales nacionales y extranjeros - 2do cuatrimestre 2020 (OCA Nº1875/20)
DESCRIPTION:Inscripción de alumnos vocacionales y extranjeros 03 al 07 de agosto (OCA Nº 1875/20)
URL:https://humanidades.mdp.edu.ar/actividad/inscripcion-de-alumnos-vocacionales-y-extranjeros/
LOCATION:Facultad de Humanidades – Sede Complejo Universitario\, Funes 3350\, Mar del Plata\, Buenos Aires\, 7600\, Argentina
CATEGORIES:Calendario académico
END:VEVENT
BEGIN:VEVENT
DTSTART;VALUE=DATE:20200803
DTEND;VALUE=DATE:20200808
DTSTAMP:20260423T030513
CREATED:20200413T152222Z
LAST-MODIFIED:20200812T235045Z
UID:5503-1596412800-1596844799@humanidades.mdp.edu.ar
SUMMARY:Inscripción de estudiantes a asignaturas optativas - 2do cuatrimestre 2020 (OCA Nº1875/20)
DESCRIPTION:Inscripción de estudiantes asignaturas optativas 03 al 07 de agosto (OCA Nº 1875/20)
URL:https://humanidades.mdp.edu.ar/actividad/inscripcion-de-estudiantes-a-asignaturas-optativas-2do-cuatrimestre-2020/
LOCATION:Facultad de Humanidades – Sede Complejo Universitario\, Funes 3350\, Mar del Plata\, Buenos Aires\, 7600\, Argentina
CATEGORIES:Calendario académico
END:VEVENT
BEGIN:VEVENT
DTSTART;VALUE=DATE:20200803
DTEND;VALUE=DATE:20201108
DTSTAMP:20260423T030513
CREATED:20200413T204830Z
LAST-MODIFIED:20200617T192339Z
UID:5599-1596412800-1604793599@humanidades.mdp.edu.ar
SUMMARY:Oferta Académica de posgrado − 2do cuatrimestre
DESCRIPTION:Hasta el 26 de junio (presentaciones pendientes del segundo cuatrimestre 2020) \nDel 03 de agosto al 07 de noviembre (primer cuatrimestre 2021)
URL:https://humanidades.mdp.edu.ar/actividad/oferta-academica-de-posgrado-%e2%88%92-2do-cuatrimestre/
LOCATION:Facultad de Humanidades – Sede Complejo Universitario\, Funes 3350\, Mar del Plata\, Buenos Aires\, 7600\, Argentina
CATEGORIES:Calendario administrativo
END:VEVENT
BEGIN:VEVENT
DTSTART;VALUE=DATE:20200803
DTEND;VALUE=DATE:20201003
DTSTAMP:20260423T030513
CREATED:20200413T210121Z
LAST-MODIFIED:20200617T191242Z
UID:5613-1596412800-1601683199@humanidades.mdp.edu.ar
SUMMARY:Incorporaciones a Grupos de Extensión
DESCRIPTION:Hasta el 03 de julio y del 03 de agosto al 02 de octubre
URL:https://humanidades.mdp.edu.ar/actividad/incorporaciones-a-grupos-de-extension-2/
LOCATION:Facultad de Humanidades – Sede Complejo Universitario\, Funes 3350\, Mar del Plata\, Buenos Aires\, 7600\, Argentina
CATEGORIES:Calendario administrativo
END:VEVENT
BEGIN:VEVENT
DTSTART;VALUE=DATE:20200803
DTEND;VALUE=DATE:20201001
DTSTAMP:20260423T030513
CREATED:20200413T210354Z
LAST-MODIFIED:20200617T191324Z
UID:5617-1596412800-1601510399@humanidades.mdp.edu.ar
SUMMARY:Reconocimiento de asignaturas aisladas intrafacultad\, entre Facultades y de otras Universidades (OCS Nº 053/84)
DESCRIPTION:Del 03 de agosto al 30 de septiembre.
URL:https://humanidades.mdp.edu.ar/actividad/reconocimiento-de-asignaturas-aisladas-intrafacultad-entre-facultades-y-de-otras-universidades-ocs-no-053-84-2/
LOCATION:Facultad de Humanidades – Sede Complejo Universitario\, Funes 3350\, Mar del Plata\, Buenos Aires\, 7600\, Argentina
CATEGORIES:Calendario administrativo
END:VEVENT
BEGIN:VEVENT
DTSTART;VALUE=DATE:20200803
DTEND;VALUE=DATE:20201001
DTSTAMP:20260423T030513
CREATED:20200413T210513Z
LAST-MODIFIED:20200617T191403Z
UID:5621-1596412800-1601510399@humanidades.mdp.edu.ar
SUMMARY:Reconocimiento de asignaturas aisladas de Institutos de nivel terciario no universitario (OCS Nº 1028/91 y OCA Nº 1696/96)
DESCRIPTION:Del 03 de agosto al 30 de septiembre.
URL:https://humanidades.mdp.edu.ar/actividad/reconocimiento-de-asignaturas-aisladas-de-institutos-de-nivel-terciario-no-universitario-ocs-no-1028-91-y-oca-no-1696-96-2/
LOCATION:Facultad de Humanidades – Sede Complejo Universitario\, Funes 3350\, Mar del Plata\, Buenos Aires\, 7600\, Argentina
CATEGORIES:Calendario administrativo
END:VEVENT
BEGIN:VEVENT
DTSTART;VALUE=DATE:20200805
DTEND;VALUE=DATE:20201001
DTSTAMP:20260423T030513
CREATED:20200413T210001Z
LAST-MODIFIED:20200617T191212Z
UID:5609-1596585600-1601510399@humanidades.mdp.edu.ar
SUMMARY:Incorporaciones a Grupos de Investigación
DESCRIPTION:Hasta el 30 de junio y del 5 de agosto al 30 de septiembre
URL:https://humanidades.mdp.edu.ar/actividad/incorporaciones-a-grupos-de-investigacion-2/
LOCATION:Facultad de Humanidades – Sede Complejo Universitario\, Funes 3350\, Mar del Plata\, Buenos Aires\, 7600\, Argentina
CATEGORIES:Calendario administrativo
END:VEVENT
END:VCALENDAR