BEGIN:VCALENDAR
VERSION:2.0
PRODID:-//Facultad de Humanidades - ECPv6.15.20//NONSGML v1.0//EN
CALSCALE:GREGORIAN
METHOD:PUBLISH
X-ORIGINAL-URL:https://humanidades.mdp.edu.ar
X-WR-CALDESC:Eventos para Facultad de Humanidades
REFRESH-INTERVAL;VALUE=DURATION:PT1H
X-Robots-Tag:noindex
X-PUBLISHED-TTL:PT1H
BEGIN:VTIMEZONE
TZID:America/Argentina/Buenos_Aires
BEGIN:STANDARD
TZOFFSETFROM:-0300
TZOFFSETTO:-0300
TZNAME:-03
DTSTART:20190101T000000
END:STANDARD
END:VTIMEZONE
BEGIN:VEVENT
DTSTART;VALUE=DATE:20200803
DTEND;VALUE=DATE:20201108
DTSTAMP:20260422T230648
CREATED:20200413T204830Z
LAST-MODIFIED:20200617T192339Z
UID:5599-1596412800-1604793599@humanidades.mdp.edu.ar
SUMMARY:Oferta Académica de posgrado − 2do cuatrimestre
DESCRIPTION:Hasta el 26 de junio (presentaciones pendientes del segundo cuatrimestre 2020) \nDel 03 de agosto al 07 de noviembre (primer cuatrimestre 2021)
URL:https://humanidades.mdp.edu.ar/actividad/oferta-academica-de-posgrado-%e2%88%92-2do-cuatrimestre/
LOCATION:Facultad de Humanidades – Sede Complejo Universitario\, Funes 3350\, Mar del Plata\, Buenos Aires\, 7600\, Argentina
CATEGORIES:Calendario administrativo
END:VEVENT
BEGIN:VEVENT
DTSTART;VALUE=DATE:20201001
DTEND;VALUE=DATE:20201031
DTSTAMP:20260422T230648
CREATED:20200413T210627Z
LAST-MODIFIED:20200617T193206Z
UID:5625-1601510400-1604102399@humanidades.mdp.edu.ar
SUMMARY:Reconocimiento de asignaturas Plan de Homologación de la carrera de Licenciatura en Cs. de la Educación - 2do cuatrimestre
DESCRIPTION:Desde el 04 al 29 de mayo y desde el 1º al 30 de octubre
URL:https://humanidades.mdp.edu.ar/actividad/reconocimiento-de-asignaturas-plan-de-homologacion-de-la-carrera-de-licenciatura-en-cs-de-la-educacion-2/
LOCATION:Facultad de Humanidades – Sede Complejo Universitario\, Funes 3350\, Mar del Plata\, Buenos Aires\, 7600\, Argentina
CATEGORIES:Calendario administrativo
END:VEVENT
END:VCALENDAR