BEGIN:VCALENDAR
VERSION:2.0
PRODID:-//Facultad de Humanidades - ECPv6.15.20//NONSGML v1.0//EN
CALSCALE:GREGORIAN
METHOD:PUBLISH
X-WR-CALNAME:Facultad de Humanidades
X-ORIGINAL-URL:https://humanidades.mdp.edu.ar
X-WR-CALDESC:Eventos para Facultad de Humanidades
REFRESH-INTERVAL;VALUE=DURATION:PT1H
X-Robots-Tag:noindex
X-PUBLISHED-TTL:PT1H
BEGIN:VTIMEZONE
TZID:America/Argentina/Buenos_Aires
BEGIN:STANDARD
TZOFFSETFROM:-0300
TZOFFSETTO:-0300
TZNAME:-03
DTSTART:20200101T000000
END:STANDARD
END:VTIMEZONE
BEGIN:VEVENT
DTSTART;VALUE=DATE:20210322
DTEND;VALUE=DATE:20210605
DTSTAMP:20260422T144938
CREATED:20210318T161828Z
LAST-MODIFIED:20210318T161828Z
UID:6659-1616371200-1622851199@humanidades.mdp.edu.ar
SUMMARY:Oferta Académica de posgrado
DESCRIPTION:22 de marzo al 04 de junio (segundo cuatrimestre)
URL:https://humanidades.mdp.edu.ar/actividad/oferta-academica-de-posgrado/
CATEGORIES:Calendario administrativo
END:VEVENT
BEGIN:VEVENT
DTSTART;VALUE=DATE:20210401
DTEND;VALUE=DATE:20210407
DTSTAMP:20260422T144938
CREATED:20210318T163848Z
LAST-MODIFIED:20210318T163848Z
UID:6704-1617235200-1617753599@humanidades.mdp.edu.ar
SUMMARY:Reincorporación de Alumnos dados de baja
DESCRIPTION:Fechas límites para el pedido de reincorporaciones:\n-hasta el 06 de abril (primer turno)\n(OCA No 2391/20)\n-hasta el 16 de julio (segundo turno)\n(OCA No 2391/20)\n-hasta el 15 de octubre (tercer turno)\n-hasta el 08 de abril 2022 (cuarto\nturno) (OCA No 2391/20)
URL:https://humanidades.mdp.edu.ar/actividad/reincorporacion-de-alumnos-dados-de-baja-5/
CATEGORIES:Calendario administrativo
END:VEVENT
BEGIN:VEVENT
DTSTART;VALUE=DATE:20210406
DTEND;VALUE=DATE:20210407
DTSTAMP:20260422T144938
CREATED:20200413T191136Z
LAST-MODIFIED:20200413T192838Z
UID:5559-1617667200-1617753599@humanidades.mdp.edu.ar
SUMMARY:Fecha límite para pedido de altas y excepciones
DESCRIPTION:Fecha límite para pedido de altas y excepciones: 06/04
URL:https://humanidades.mdp.edu.ar/actividad/fecha-limite-para-pedido-de-altas-y-excepciones-5/
LOCATION:Facultad de Humanidades – Sede Complejo Universitario\, Funes 3350\, Mar del Plata\, Buenos Aires\, 7600\, Argentina
CATEGORIES:Calendario académico
END:VEVENT
BEGIN:VEVENT
DTSTART;VALUE=DATE:20210406
DTEND;VALUE=DATE:20210407
DTSTAMP:20260422T144938
CREATED:20200413T211342Z
LAST-MODIFIED:20210303T164120Z
UID:5645-1617667200-1617753599@humanidades.mdp.edu.ar
SUMMARY:Reincorporación de Alumnos dados de baja
DESCRIPTION:Fechas límites para el pedido de reincorporaciones: \n-hasta el 16 de octubre (tercer turno) \n-hasta el 06 de abril 2021 (cuarto turno) (OCA Nº 1875/20)
URL:https://humanidades.mdp.edu.ar/actividad/reincorporacion-de-alumnos-dados-de-baja-4/
LOCATION:Facultad de Humanidades – Sede Complejo Universitario\, Funes 3350\, Mar del Plata\, Buenos Aires\, 7600\, Argentina
CATEGORIES:Calendario académico
END:VEVENT
END:VCALENDAR