BEGIN:VCALENDAR
VERSION:2.0
PRODID:-//Facultad de Humanidades - ECPv6.15.20//NONSGML v1.0//EN
CALSCALE:GREGORIAN
METHOD:PUBLISH
X-WR-CALNAME:Facultad de Humanidades
X-ORIGINAL-URL:https://humanidades.mdp.edu.ar
X-WR-CALDESC:Eventos para Facultad de Humanidades
REFRESH-INTERVAL;VALUE=DURATION:PT1H
X-Robots-Tag:noindex
X-PUBLISHED-TTL:PT1H
BEGIN:VTIMEZONE
TZID:America/Argentina/Buenos_Aires
BEGIN:STANDARD
TZOFFSETFROM:-0300
TZOFFSETTO:-0300
TZNAME:-03
DTSTART:20200101T000000
END:STANDARD
END:VTIMEZONE
BEGIN:VEVENT
DTSTART;VALUE=DATE:20210322
DTEND;VALUE=DATE:20210605
DTSTAMP:20260422T124916
CREATED:20210318T161828Z
LAST-MODIFIED:20210318T161828Z
UID:6659-1616371200-1622851199@humanidades.mdp.edu.ar
SUMMARY:Oferta Académica de posgrado
DESCRIPTION:22 de marzo al 04 de junio (segundo cuatrimestre)
URL:https://humanidades.mdp.edu.ar/actividad/oferta-academica-de-posgrado/
CATEGORIES:Calendario administrativo
END:VEVENT
BEGIN:VEVENT
DTSTART;VALUE=DATE:20210503
DTEND;VALUE=DATE:20210529
DTSTAMP:20260422T124916
CREATED:20210318T160733Z
LAST-MODIFIED:20210318T160733Z
UID:6631-1620000000-1622246399@humanidades.mdp.edu.ar
SUMMARY:Licencia sin sueldo por cargo mayor jerarquía y/o dedicación (OCS No 702/86)
DESCRIPTION:03 al 28 de mayo  
URL:https://humanidades.mdp.edu.ar/actividad/licencia-sin-sueldo-por-cargo-mayor-jerarquia-y-o-dedicacion-ocs-no-702-86/
CATEGORIES:Calendario administrativo
END:VEVENT
BEGIN:VEVENT
DTSTART;VALUE=DATE:20210503
DTEND;VALUE=DATE:20210701
DTSTAMP:20260422T124916
CREATED:20210318T162208Z
LAST-MODIFIED:20210318T162208Z
UID:6667-1620000000-1625097599@humanidades.mdp.edu.ar
SUMMARY:Incorporaciones a Grupos de Investigación
DESCRIPTION:03 de mayo al 30 de junio y 2 de agosto al 30 de septiembre
URL:https://humanidades.mdp.edu.ar/actividad/incorporaciones-a-grupos-de-investigacion-3/
CATEGORIES:Calendario administrativo
END:VEVENT
BEGIN:VEVENT
DTSTART;VALUE=DATE:20210503
DTEND;VALUE=DATE:20210703
DTSTAMP:20260422T124916
CREATED:20210318T162340Z
LAST-MODIFIED:20210318T162340Z
UID:6671-1620000000-1625270399@humanidades.mdp.edu.ar
SUMMARY:Incorporaciones a Grupos de Extensión
DESCRIPTION:03 de mayo al 02 de julio y del 02 de agosto al 01 de octubre
URL:https://humanidades.mdp.edu.ar/actividad/incorporaciones-a-grupos-de-extension-3/
CATEGORIES:Calendario administrativo
END:VEVENT
BEGIN:VEVENT
DTSTART;VALUE=DATE:20210503
DTEND;VALUE=DATE:20210529
DTSTAMP:20260422T124916
CREATED:20210318T162506Z
LAST-MODIFIED:20210318T164559Z
UID:6675-1620000000-1622246399@humanidades.mdp.edu.ar
SUMMARY:Reconocimiento de asignaturas aisladas intrafacultad\, entre Facultades y de otras Universidades (OCS No 053/84)
DESCRIPTION:(Previa aprobación circuito virtual)* Desde el 03 al 28 de mayo y desde el 02 de agosto al 30 de septiembre. \n*Donde se menciona “Previa aprobación circuito virtual” queremos decir que se está trabajando\nen la implementación de un circuito virtual para dichos trámites y que será informado a la\nbrevedad.
URL:https://humanidades.mdp.edu.ar/actividad/reconocimiento-de-asignaturas-aisladas-intrafacultad-entre-facultades-y-de-otras-universidades-ocs-no-053-84-3/
CATEGORIES:Calendario administrativo
END:VEVENT
BEGIN:VEVENT
DTSTART;VALUE=DATE:20210503
DTEND;VALUE=DATE:20210529
DTSTAMP:20260422T124916
CREATED:20210318T162641Z
LAST-MODIFIED:20210318T164541Z
UID:6679-1620000000-1622246399@humanidades.mdp.edu.ar
SUMMARY:Reconocimiento de asignaturas aisladas de Institutos de nivel terciario no universitario (OCS No 1028/91 y OCA No 1696/96)
DESCRIPTION:(Previa aprobación circuito virtual)* Desde el 03 al 28 de mayo y desde el 02 de agosto al 30 de septiembre. \n*Donde se menciona “Previa aprobación circuito virtual” queremos decir que se está trabajando\nen la implementación de un circuito virtual para dichos trámites y que será informado a la\nbrevedad.
URL:https://humanidades.mdp.edu.ar/actividad/reconocimiento-de-asignaturas-aisladas-de-institutos-de-nivel-terciario-no-universitario-ocs-no-1028-91-y-oca-no-1696-96-3/
CATEGORIES:Calendario administrativo
END:VEVENT
BEGIN:VEVENT
DTSTART;VALUE=DATE:20210503
DTEND;VALUE=DATE:20210529
DTSTAMP:20260422T124916
CREATED:20210318T162925Z
LAST-MODIFIED:20210318T162925Z
UID:6684-1620000000-1622246399@humanidades.mdp.edu.ar
SUMMARY:Reconocimiento de asignaturas Plan de Homologación de la carrera de Licenciatura en Cs. de la Educación
DESCRIPTION:(Previa aprobación circuito virtual)* Desde el 03 al 28 de mayo y desde el 1 al 29 de octubre \n*Donde se menciona “Previa aprobación circuito virtual” queremos decir que se está trabajando\nen la implementación de un circuito virtual para dichos trámites y que será informado a la\nbrevedad.
URL:https://humanidades.mdp.edu.ar/actividad/reconocimiento-de-asignaturas-plan-de-homologacion-de-la-carrera-de-licenciatura-en-cs-de-la-educacion-3/
CATEGORIES:Calendario administrativo
END:VEVENT
END:VCALENDAR