BEGIN:VCALENDAR
VERSION:2.0
PRODID:-//Facultad de Humanidades - ECPv6.15.20//NONSGML v1.0//EN
CALSCALE:GREGORIAN
METHOD:PUBLISH
X-ORIGINAL-URL:https://humanidades.mdp.edu.ar
X-WR-CALDESC:Eventos para Facultad de Humanidades
REFRESH-INTERVAL;VALUE=DURATION:PT1H
X-Robots-Tag:noindex
X-PUBLISHED-TTL:PT1H
BEGIN:VTIMEZONE
TZID:America/Argentina/Buenos_Aires
BEGIN:STANDARD
TZOFFSETFROM:-0300
TZOFFSETTO:-0300
TZNAME:-03
DTSTART:20200101T000000
END:STANDARD
END:VTIMEZONE
BEGIN:VEVENT
DTSTART;VALUE=DATE:20210710
DTEND;VALUE=DATE:20210717
DTSTAMP:20260422T105814
CREATED:20210318T163924Z
LAST-MODIFIED:20210318T163924Z
UID:6706-1625875200-1626479999@humanidades.mdp.edu.ar
SUMMARY:Reincorporación de Alumnos dados de baja
DESCRIPTION:Fechas límites para el pedido de reincorporaciones:\n-hasta el 06 de abril (primer turno)\n(OCA No 2391/20)\n-hasta el 16 de julio (segundo turno)\n(OCA No 2391/20)\n-hasta el 15 de octubre (tercer turno)\n-hasta el 08 de abril 2022 (cuarto\nturno) (OCA No 2391/20)
URL:https://humanidades.mdp.edu.ar/actividad/reincorporacion-de-alumnos-dados-de-baja-6/
CATEGORIES:Calendario administrativo
END:VEVENT
END:VCALENDAR