BEGIN:VCALENDAR
VERSION:2.0
PRODID:-//Facultad de Humanidades - ECPv6.15.20//NONSGML v1.0//EN
CALSCALE:GREGORIAN
METHOD:PUBLISH
X-ORIGINAL-URL:https://humanidades.mdp.edu.ar
X-WR-CALDESC:Eventos para Facultad de Humanidades
REFRESH-INTERVAL;VALUE=DURATION:PT1H
X-Robots-Tag:noindex
X-PUBLISHED-TTL:PT1H
BEGIN:VTIMEZONE
TZID:America/Argentina/Buenos_Aires
BEGIN:STANDARD
TZOFFSETFROM:-0300
TZOFFSETTO:-0300
TZNAME:-03
DTSTART:20200101T000000
END:STANDARD
END:VTIMEZONE
BEGIN:VEVENT
DTSTART;VALUE=DATE:20210802
DTEND;VALUE=DATE:20211108
DTSTAMP:20260422T053158
CREATED:20210318T161928Z
LAST-MODIFIED:20210318T161928Z
UID:6661-1627862400-1636329599@humanidades.mdp.edu.ar
SUMMARY:Oferta Académica de posgrado
DESCRIPTION:02 de agosto al 07 de noviembre (primer cuatrimestre 2022)
URL:https://humanidades.mdp.edu.ar/actividad/oferta-academica-de-posgrado-2/
CATEGORIES:Calendario administrativo
END:VEVENT
BEGIN:VEVENT
DTSTART;VALUE=DATE:20210802
DTEND;VALUE=DATE:20211001
DTSTAMP:20260422T053158
CREATED:20210318T162259Z
LAST-MODIFIED:20210318T162259Z
UID:6669-1627862400-1633046399@humanidades.mdp.edu.ar
SUMMARY:Incorporaciones a Grupos de Investigación
DESCRIPTION:03 de mayo al 30 de junio y 2 de agosto al 30 de septiembre
URL:https://humanidades.mdp.edu.ar/actividad/incorporaciones-a-grupos-de-investigacion-4/
CATEGORIES:Calendario administrativo
END:VEVENT
BEGIN:VEVENT
DTSTART;VALUE=DATE:20210802
DTEND;VALUE=DATE:20211002
DTSTAMP:20260422T053158
CREATED:20210318T162420Z
LAST-MODIFIED:20210318T162420Z
UID:6673-1627862400-1633132799@humanidades.mdp.edu.ar
SUMMARY:Incorporaciones a Grupos de Extensión
DESCRIPTION:03 de mayo al 02 de julio y del 02 de agosto al 01 de octubre
URL:https://humanidades.mdp.edu.ar/actividad/incorporaciones-a-grupos-de-extension-4/
CATEGORIES:Calendario administrativo
END:VEVENT
BEGIN:VEVENT
DTSTART;VALUE=DATE:20210802
DTEND;VALUE=DATE:20211001
DTSTAMP:20260422T053158
CREATED:20210318T162552Z
LAST-MODIFIED:20210318T164550Z
UID:6677-1627862400-1633046399@humanidades.mdp.edu.ar
SUMMARY:Reconocimiento de asignaturas aisladas intrafacultad\, entre Facultades y de otras Universidades (OCS No 053/84)
DESCRIPTION:(Previa aprobación circuito virtual)* Desde el 03 al 28 de mayo y desde el 02 de agosto al 30 de septiembre. \n*Donde se menciona “Previa aprobación circuito virtual” queremos decir que se está trabajando\nen la implementación de un circuito virtual para dichos trámites y que será informado a la\nbrevedad.
URL:https://humanidades.mdp.edu.ar/actividad/reconocimiento-de-asignaturas-aisladas-intrafacultad-entre-facultades-y-de-otras-universidades-ocs-no-053-84-4/
CATEGORIES:Calendario administrativo
END:VEVENT
BEGIN:VEVENT
DTSTART;VALUE=DATE:20210802
DTEND;VALUE=DATE:20211001
DTSTAMP:20260422T053158
CREATED:20210318T162722Z
LAST-MODIFIED:20210318T162810Z
UID:6681-1627862400-1633046399@humanidades.mdp.edu.ar
SUMMARY:Reconocimiento de asignaturas aisladas de Institutos de nivel terciario no universitario (OCS No 1028/91 y OCA No 1696/96)
DESCRIPTION:(Previa aprobación circuito virtual)* Desde el 03 al 28 de mayo y desde el 02 de agosto al 30 de septiembre. \n*Donde se menciona “Previa aprobación circuito virtual” queremos decir que se está trabajando\nen la implementación de un circuito virtual para dichos trámites y que será informado a la\nbrevedad.
URL:https://humanidades.mdp.edu.ar/actividad/reconocimiento-de-asignaturas-aisladas-de-institutos-de-nivel-terciario-no-universitario-ocs-no-1028-91-y-oca-no-1696-96-4/
CATEGORIES:Calendario administrativo
END:VEVENT
BEGIN:VEVENT
DTSTART;VALUE=DATE:20210913
DTEND;VALUE=DATE:20210918
DTSTAMP:20260422T053158
CREATED:20210226T203958Z
LAST-MODIFIED:20210303T164337Z
UID:6385-1631491200-1631923199@humanidades.mdp.edu.ar
SUMMARY:Turno de exámenes - Septiembre
DESCRIPTION:Propuesta: 13/09 al 17/09 En este llamado\, sólo se pasan notas finales en las materias\npromocionales
URL:https://humanidades.mdp.edu.ar/actividad/turno-de-examenes-septiembre/
CATEGORIES:Calendario académico
END:VEVENT
END:VCALENDAR