BEGIN:VCALENDAR
VERSION:2.0
PRODID:-//Facultad de Humanidades - ECPv6.15.20//NONSGML v1.0//EN
CALSCALE:GREGORIAN
METHOD:PUBLISH
X-WR-CALNAME:Facultad de Humanidades
X-ORIGINAL-URL:https://humanidades.mdp.edu.ar
X-WR-CALDESC:Eventos para Facultad de Humanidades
REFRESH-INTERVAL;VALUE=DURATION:PT1H
X-Robots-Tag:noindex
X-PUBLISHED-TTL:PT1H
BEGIN:VTIMEZONE
TZID:America/Argentina/Buenos_Aires
BEGIN:STANDARD
TZOFFSETFROM:-0300
TZOFFSETTO:-0300
TZNAME:-03
DTSTART:20200101T000000
END:STANDARD
END:VTIMEZONE
BEGIN:VEVENT
DTSTART;VALUE=DATE:20211129
DTEND;VALUE=DATE:20211130
DTSTAMP:20260422T005111
CREATED:20210318T164358Z
LAST-MODIFIED:20210318T164358Z
UID:6716-1638144000-1638230399@humanidades.mdp.edu.ar
SUMMARY:Planta Docente (Redesignaciones interinos y planta temporaria\, funciones docentes regulares y Planillas de Declaración Jurada de Cargos)
DESCRIPTION:29 de noviembre de 2021 (Tratamiento en Consejo Académico\, aproximadamente a mediados de marzo\, a confirmar)
URL:https://humanidades.mdp.edu.ar/actividad/planta-docente-redesignaciones-interinos-y-planta-temporaria-funciones-docentes-regulares-y-planillas-de-declaracion-jurada-de-cargos/
CATEGORIES:Calendario administrativo
END:VEVENT
END:VCALENDAR