BEGIN:VCALENDAR
VERSION:2.0
PRODID:-//Facultad de Humanidades - ECPv6.15.20//NONSGML v1.0//EN
CALSCALE:GREGORIAN
METHOD:PUBLISH
X-ORIGINAL-URL:https://humanidades.mdp.edu.ar
X-WR-CALDESC:Eventos para Facultad de Humanidades
REFRESH-INTERVAL;VALUE=DURATION:PT1H
X-Robots-Tag:noindex
X-PUBLISHED-TTL:PT1H
BEGIN:VTIMEZONE
TZID:America/Argentina/Buenos_Aires
BEGIN:STANDARD
TZOFFSETFROM:-0300
TZOFFSETTO:-0300
TZNAME:-03
DTSTART:20210101T000000
END:STANDARD
END:VTIMEZONE
BEGIN:VEVENT
DTSTART;VALUE=DATE:20220301
DTEND;VALUE=DATE:20220401
DTSTAMP:20260421T185114
CREATED:20220215T172908Z
LAST-MODIFIED:20220215T173529Z
UID:7899-1646092800-1648771199@humanidades.mdp.edu.ar
SUMMARY:Inscripción de alumnos vocacionales nacionales y extranjeros - 1er cuatri
DESCRIPTION:01/03 al 31/03
URL:https://humanidades.mdp.edu.ar/actividad/inscripcion-de-alumnos-vocacionales-nacionales-y-extranjeros/
CATEGORIES:Calendario académico
END:VEVENT
BEGIN:VEVENT
DTSTART;VALUE=DATE:20220302
DTEND;VALUE=DATE:20220401
DTSTAMP:20260421T185114
CREATED:20220215T172632Z
LAST-MODIFIED:20220215T173308Z
UID:7891-1646179200-1648771199@humanidades.mdp.edu.ar
SUMMARY:Reinscripción anual 2022
DESCRIPTION:02/03 al 31/03 para todas las carreras
URL:https://humanidades.mdp.edu.ar/actividad/reinscripcion-anual-2022-2/
CATEGORIES:Calendario académico
END:VEVENT
BEGIN:VEVENT
DTSTART;VALUE=DATE:20220302
DTEND;VALUE=DATE:20220401
DTSTAMP:20260421T185114
CREATED:20220215T172714Z
LAST-MODIFIED:20220215T173358Z
UID:7893-1646179200-1648771199@humanidades.mdp.edu.ar
SUMMARY:Inscripción de cursadas de estudiantes que cursan de 2º año en adelante
DESCRIPTION:02/03 al 31/03 para todas las carreras
URL:https://humanidades.mdp.edu.ar/actividad/inscripcion-de-cursadas-de-estudiantes-que-cursan-de-2o-ano-en-adelante-2/
CATEGORIES:Calendario académico
END:VEVENT
BEGIN:VEVENT
DTSTART;VALUE=DATE:20220321
DTEND;VALUE=DATE:20220409
DTSTAMP:20260421T185114
CREATED:20220221T201612Z
LAST-MODIFIED:20220221T201612Z
UID:8029-1647820800-1649462399@humanidades.mdp.edu.ar
SUMMARY:Adscripciones graduados
DESCRIPTION:21 de marzo al 08 de abril (primer cuatrimestre)
URL:https://humanidades.mdp.edu.ar/actividad/adscripciones-graduados-3/
CATEGORIES:Calendario administrativo
END:VEVENT
BEGIN:VEVENT
DTSTART;VALUE=DATE:20220321
DTEND;VALUE=DATE:20220409
DTSTAMP:20260421T185114
CREATED:20220221T201736Z
LAST-MODIFIED:20220221T201736Z
UID:8033-1647820800-1649462399@humanidades.mdp.edu.ar
SUMMARY:Adscripciones estudiantes
DESCRIPTION:21 de marzo al 08 de abril (primer cuatrimestre)
URL:https://humanidades.mdp.edu.ar/actividad/adscripciones-estudiantes-3/
CATEGORIES:Calendario administrativo
END:VEVENT
BEGIN:VEVENT
DTSTART;VALUE=DATE:20220321
DTEND;VALUE=DATE:20220409
DTSTAMP:20260421T185114
CREATED:20220221T201858Z
LAST-MODIFIED:20220221T201858Z
UID:8037-1647820800-1649462399@humanidades.mdp.edu.ar
SUMMARY:Adscripciones de becarios tipo A y B  de la UNMDP
DESCRIPTION:21 de marzo al 08 de abril (primer cuatrimestre)
URL:https://humanidades.mdp.edu.ar/actividad/adscripciones-de-becarios-tipo-a-y-b-de-la-unmdp/
CATEGORIES:Calendario administrativo
END:VEVENT
BEGIN:VEVENT
DTSTART;VALUE=DATE:20220321
DTEND;VALUE=DATE:20220409
DTSTAMP:20260421T185114
CREATED:20220221T202039Z
LAST-MODIFIED:20220221T202039Z
UID:8041-1647820800-1649462399@humanidades.mdp.edu.ar
SUMMARY:Funciones de becarios estudiantes avanzados de la UNMDP
DESCRIPTION:21 de marzo al 08 de abril (primer cuatrimestre)
URL:https://humanidades.mdp.edu.ar/actividad/funciones-de-becarios-estudiantes-avanzados-de-la-unmdp/
CATEGORIES:Calendario administrativo
END:VEVENT
END:VCALENDAR