BEGIN:VCALENDAR
VERSION:2.0
PRODID:-//Facultad de Humanidades - ECPv6.15.20//NONSGML v1.0//EN
CALSCALE:GREGORIAN
METHOD:PUBLISH
X-ORIGINAL-URL:https://humanidades.mdp.edu.ar
X-WR-CALDESC:Eventos para Facultad de Humanidades
REFRESH-INTERVAL;VALUE=DURATION:PT1H
X-Robots-Tag:noindex
X-PUBLISHED-TTL:PT1H
BEGIN:VTIMEZONE
TZID:America/Argentina/Buenos_Aires
BEGIN:STANDARD
TZOFFSETFROM:-0300
TZOFFSETTO:-0300
TZNAME:-03
DTSTART:20210101T000000
END:STANDARD
END:VTIMEZONE
BEGIN:VEVENT
DTSTART;VALUE=DATE:20220411
DTEND;VALUE=DATE:20220430
DTSTAMP:20260421T185115
CREATED:20220221T201219Z
LAST-MODIFIED:20220221T201219Z
UID:8021-1649635200-1651276799@humanidades.mdp.edu.ar
SUMMARY:Funciones becarios externos relacionadas con Lugares de Trabajo vigentes
DESCRIPTION:11 al 29 de abril (primer cuatrimestre)
URL:https://humanidades.mdp.edu.ar/actividad/funciones-becarios-externos-relacionadas-con-lugares-de-trabajo-vigentes/
CATEGORIES:Calendario administrativo
END:VEVENT
BEGIN:VEVENT
DTSTART;VALUE=DATE:20220411
DTEND;VALUE=DATE:20220511
DTSTAMP:20260421T185115
CREATED:20220221T202251Z
LAST-MODIFIED:20220221T202251Z
UID:8047-1649635200-1652227199@humanidades.mdp.edu.ar
SUMMARY:Oferta Académica de posgrado
DESCRIPTION:11 de abril al 10 de junio (segundo cuatrimestre)
URL:https://humanidades.mdp.edu.ar/actividad/oferta-academica-de-posgrado-3/
CATEGORIES:Calendario administrativo
END:VEVENT
END:VCALENDAR