BEGIN:VCALENDAR
VERSION:2.0
PRODID:-//Facultad de Humanidades - ECPv6.15.20//NONSGML v1.0//EN
CALSCALE:GREGORIAN
METHOD:PUBLISH
X-WR-CALNAME:Facultad de Humanidades
X-ORIGINAL-URL:https://humanidades.mdp.edu.ar
X-WR-CALDESC:Eventos para Facultad de Humanidades
REFRESH-INTERVAL;VALUE=DURATION:PT1H
X-Robots-Tag:noindex
X-PUBLISHED-TTL:PT1H
BEGIN:VTIMEZONE
TZID:America/Argentina/Buenos_Aires
BEGIN:STANDARD
TZOFFSETFROM:-0300
TZOFFSETTO:-0300
TZNAME:-03
DTSTART:20210101T000000
END:STANDARD
END:VTIMEZONE
BEGIN:VEVENT
DTSTART;VALUE=DATE:20220502
DTEND;VALUE=DATE:20220621
DTSTAMP:20260421T155547
CREATED:20220221T202602Z
LAST-MODIFIED:20220221T202602Z
UID:8055-1651449600-1655769599@humanidades.mdp.edu.ar
SUMMARY:Incorporaciones a Grupos de Investigación
DESCRIPTION:02 de mayo al 30 de junio y 01 de agosto al 30 de septiembre
URL:https://humanidades.mdp.edu.ar/actividad/incorporaciones-a-grupos-de-investigacion-5/
CATEGORIES:Calendario administrativo
END:VEVENT
BEGIN:VEVENT
DTSTART;VALUE=DATE:20220502
DTEND;VALUE=DATE:20220701
DTSTAMP:20260421T155547
CREATED:20220221T202715Z
LAST-MODIFIED:20220221T202715Z
UID:8059-1651449600-1656633599@humanidades.mdp.edu.ar
SUMMARY:Incorporaciones a Grupos de Extensión
DESCRIPTION:02 de mayo al 30 de junio y del 01 de agosto al 30 de septiembre
URL:https://humanidades.mdp.edu.ar/actividad/incorporaciones-a-grupos-de-extension-5/
CATEGORIES:Calendario administrativo
END:VEVENT
BEGIN:VEVENT
DTSTART;VALUE=DATE:20220530
DTEND;VALUE=DATE:20220813
DTSTAMP:20260421T155547
CREATED:20220221T201815Z
LAST-MODIFIED:20220221T201815Z
UID:8035-1653868800-1660348799@humanidades.mdp.edu.ar
SUMMARY:Adscripciones estudiantes
DESCRIPTION:30 de junio al 12 de agosto (segundo cuatrimestre)
URL:https://humanidades.mdp.edu.ar/actividad/adscripciones-estudiantes-4/
CATEGORIES:Calendario administrativo
END:VEVENT
BEGIN:VEVENT
DTSTART;VALUE=DATE:20220530
DTEND;VALUE=DATE:20220813
DTSTAMP:20260421T155547
CREATED:20220221T201932Z
LAST-MODIFIED:20220221T201932Z
UID:8039-1653868800-1660348799@humanidades.mdp.edu.ar
SUMMARY:Adscripciones de becarios tipo A y B  de la UNMDP
DESCRIPTION:30 de junio al 12 de agosto (segundo cuatrimestre)
URL:https://humanidades.mdp.edu.ar/actividad/adscripciones-de-becarios-tipo-a-y-b-de-la-unmdp-2/
CATEGORIES:Calendario administrativo
END:VEVENT
BEGIN:VEVENT
DTSTART;VALUE=DATE:20220530
DTEND;VALUE=DATE:20220813
DTSTAMP:20260421T155547
CREATED:20220221T202115Z
LAST-MODIFIED:20220221T202115Z
UID:8043-1653868800-1660348799@humanidades.mdp.edu.ar
SUMMARY:Funciones de becarios estudiantes avanzados de la UNMDP
DESCRIPTION:30 de junio al 12 de agosto (segundo cuatrimestre)
URL:https://humanidades.mdp.edu.ar/actividad/funciones-de-becarios-estudiantes-avanzados-de-la-unmdp-2/
CATEGORIES:Calendario administrativo
END:VEVENT
END:VCALENDAR