BEGIN:VCALENDAR
VERSION:2.0
PRODID:-//Facultad de Humanidades - ECPv6.15.20//NONSGML v1.0//EN
CALSCALE:GREGORIAN
METHOD:PUBLISH
X-ORIGINAL-URL:https://humanidades.mdp.edu.ar
X-WR-CALDESC:Eventos para Facultad de Humanidades
REFRESH-INTERVAL;VALUE=DURATION:PT1H
X-Robots-Tag:noindex
X-PUBLISHED-TTL:PT1H
BEGIN:VTIMEZONE
TZID:America/Argentina/Buenos_Aires
BEGIN:STANDARD
TZOFFSETFROM:-0300
TZOFFSETTO:-0300
TZNAME:-03
DTSTART:20210101T000000
END:STANDARD
END:VTIMEZONE
BEGIN:VEVENT
DTSTART;VALUE=DATE:20220801
DTEND;VALUE=DATE:20221001
DTSTAMP:20260421T100508
CREATED:20220221T202644Z
LAST-MODIFIED:20220221T202644Z
UID:8057-1659312000-1664582399@humanidades.mdp.edu.ar
SUMMARY:Incorporaciones a Grupos de Investigación
DESCRIPTION:02 de mayo al 30 de junio y 01 de agosto al 30 de septiembre
URL:https://humanidades.mdp.edu.ar/actividad/incorporaciones-a-grupos-de-investigacion-6/
CATEGORIES:Calendario administrativo
END:VEVENT
BEGIN:VEVENT
DTSTART;VALUE=DATE:20220801
DTEND;VALUE=DATE:20221001
DTSTAMP:20260421T100508
CREATED:20220221T202744Z
LAST-MODIFIED:20220221T202744Z
UID:8061-1659312000-1664582399@humanidades.mdp.edu.ar
SUMMARY:Incorporaciones a Grupos de Extensión
DESCRIPTION:02 de mayo al 30 de junio y del 01 de agosto al 30 de septiembre
URL:https://humanidades.mdp.edu.ar/actividad/incorporaciones-a-grupos-de-extension-6/
CATEGORIES:Calendario administrativo
END:VEVENT
BEGIN:VEVENT
DTSTART;VALUE=DATE:20220905
DTEND;VALUE=DATE:20221029
DTSTAMP:20260421T100508
CREATED:20220221T203112Z
LAST-MODIFIED:20220221T203112Z
UID:8063-1662336000-1667001599@humanidades.mdp.edu.ar
SUMMARY:Reconocimiento de asignaturas aisladas intrafacultad\, entre Facultades y de otras Universidades (OCS Nº 053/84)
DESCRIPTION:desde el 05 de septiembre al 28 de octubre
URL:https://humanidades.mdp.edu.ar/actividad/reconocimiento-de-asignaturas-aisladas-intrafacultad-entre-facultades-y-de-otras-universidades-ocs-no-053-84-5/
CATEGORIES:Calendario administrativo
END:VEVENT
BEGIN:VEVENT
DTSTART;VALUE=DATE:20220905
DTEND;VALUE=DATE:20221029
DTSTAMP:20260421T100508
CREATED:20220221T203247Z
LAST-MODIFIED:20220221T203247Z
UID:8065-1662336000-1667001599@humanidades.mdp.edu.ar
SUMMARY:Reconocimiento de asignaturas aisladas de Institutos de nivel terciario no universitario (OCS Nº 1028/91 y OCA Nº 1696/96)
DESCRIPTION:desde el 05 de septiembre al 28 de octubre
URL:https://humanidades.mdp.edu.ar/actividad/reconocimiento-de-asignaturas-aisladas-de-institutos-de-nivel-terciario-no-universitario-ocs-no-1028-91-y-oca-no-1696-96-5/
CATEGORIES:Calendario administrativo
END:VEVENT
BEGIN:VEVENT
DTSTART;VALUE=DATE:20220905
DTEND;VALUE=DATE:20221029
DTSTAMP:20260421T100508
CREATED:20220221T203342Z
LAST-MODIFIED:20220221T203342Z
UID:8067-1662336000-1667001599@humanidades.mdp.edu.ar
SUMMARY:Reconocimiento de asignaturas Plan de Homologación de la carrera de Licenciatura en Cs. de la Educación
DESCRIPTION:desde el 05 de septiembre al 28 de octubre
URL:https://humanidades.mdp.edu.ar/actividad/reconocimiento-de-asignaturas-plan-de-homologacion-de-la-carrera-de-licenciatura-en-cs-de-la-educacion-5/
CATEGORIES:Calendario administrativo
END:VEVENT
BEGIN:VEVENT
DTSTART;VALUE=DATE:20220912
DTEND;VALUE=DATE:20220924
DTSTAMP:20260421T100508
CREATED:20220215T174620Z
LAST-MODIFIED:20220215T174620Z
UID:7936-1662940800-1663977599@humanidades.mdp.edu.ar
SUMMARY:Turno de exámenes - Septiembre 2022
DESCRIPTION:12/9 al 16/9:\nHistoria – Geografía – Lenguas Modernas – Ciencias de la Información – Prácticas Socio-Comunitarias \n17/09:\nBibes- Licad \n19/09 al 23/09: \nLetras – Filosofía – Sociología – Ciencias de la Educación – Ciencia Política \nLas mesas del 21/9 se sustanciarán el día 28/9
URL:https://humanidades.mdp.edu.ar/actividad/turno-de-examenes-septiembre-2022/
CATEGORIES:Calendario académico
END:VEVENT
BEGIN:VEVENT
DTSTART;VALUE=DATE:20220912
DTEND;VALUE=DATE:20221112
DTSTAMP:20260421T100508
CREATED:20220221T202338Z
LAST-MODIFIED:20220221T202338Z
UID:8049-1662940800-1668211199@humanidades.mdp.edu.ar
SUMMARY:Oferta Académica de posgrado
DESCRIPTION:12  de  septiembre  al  11  de  noviembre (primer cuatrimestre 2023)\n(primer cuatrimestre 2022)
URL:https://humanidades.mdp.edu.ar/actividad/oferta-academica-de-posgrado-4/
CATEGORIES:Calendario administrativo
END:VEVENT
END:VCALENDAR