BEGIN:VCALENDAR
VERSION:2.0
PRODID:-//Facultad de Humanidades - ECPv6.15.20//NONSGML v1.0//EN
CALSCALE:GREGORIAN
METHOD:PUBLISH
X-ORIGINAL-URL:https://humanidades.mdp.edu.ar
X-WR-CALDESC:Eventos para Facultad de Humanidades
REFRESH-INTERVAL;VALUE=DURATION:PT1H
X-Robots-Tag:noindex
X-PUBLISHED-TTL:PT1H
BEGIN:VTIMEZONE
TZID:America/Argentina/Buenos_Aires
BEGIN:STANDARD
TZOFFSETFROM:-0300
TZOFFSETTO:-0300
TZNAME:-03
DTSTART:20230101T000000
END:STANDARD
END:VTIMEZONE
BEGIN:VEVENT
DTSTART;VALUE=DATE:20240318
DTEND;VALUE=DATE:20240406
DTSTAMP:20260420T053405
CREATED:20240321T173844Z
LAST-MODIFIED:20240321T173844Z
UID:14922-1710720000-1712361599@humanidades.mdp.edu.ar
SUMMARY:Adscripciones graduadas/os estudiantes - Investigación (OCA 2997/21 y 2998/21)
DESCRIPTION:
URL:https://humanidades.mdp.edu.ar/actividad/adscripciones-graduadas-os-estudiantes-investigacion-oca-2997-21-y-2998-21/
CATEGORIES:Calendario administrativo
END:VEVENT
END:VCALENDAR