BEGIN:VCALENDAR
VERSION:2.0
PRODID:-//Facultad de Humanidades - ECPv6.15.20//NONSGML v1.0//EN
CALSCALE:GREGORIAN
METHOD:PUBLISH
X-ORIGINAL-URL:https://humanidades.mdp.edu.ar
X-WR-CALDESC:Eventos para Facultad de Humanidades
REFRESH-INTERVAL;VALUE=DURATION:PT1H
X-Robots-Tag:noindex
X-PUBLISHED-TTL:PT1H
BEGIN:VTIMEZONE
TZID:America/Argentina/Buenos_Aires
BEGIN:STANDARD
TZOFFSETFROM:-0300
TZOFFSETTO:-0300
TZNAME:-03
DTSTART:20230101T000000
END:STANDARD
END:VTIMEZONE
BEGIN:VEVENT
DTSTART;VALUE=DATE:20240403
DTEND;VALUE=DATE:20240413
DTSTAMP:20260420T053405
CREATED:20240321T172100Z
LAST-MODIFIED:20240321T172100Z
UID:14914-1712102400-1712966399@humanidades.mdp.edu.ar
SUMMARY:Adscripciones graduadas/os - Docencia (OCA 2998/21) - Primer Cuatrimestre
DESCRIPTION:
URL:https://humanidades.mdp.edu.ar/actividad/adscripciones-graduadas-os-docencia-oca-2998-21-primer-cuatrimestre/
CATEGORIES:Calendario administrativo
END:VEVENT
BEGIN:VEVENT
DTSTART;VALUE=DATE:20240403
DTEND;VALUE=DATE:20240413
DTSTAMP:20260420T053405
CREATED:20240321T173553Z
LAST-MODIFIED:20240321T173553Z
UID:14918-1712102400-1712966399@humanidades.mdp.edu.ar
SUMMARY:Adscripciones estudiantes - Docencia (OCA 2997/21) - Primer Cuatrimestre
DESCRIPTION:
URL:https://humanidades.mdp.edu.ar/actividad/adscripciones-estudiantes-docencia-oca-2997-21-primer-cuatrimestre/
CATEGORIES:Calendario administrativo
END:VEVENT
BEGIN:VEVENT
DTSTART;VALUE=DATE:20240403
DTEND;VALUE=DATE:20240413
DTSTAMP:20260420T053405
CREATED:20240321T174000Z
LAST-MODIFIED:20240321T174000Z
UID:14926-1712102400-1712966399@humanidades.mdp.edu.ar
SUMMARY:Adscripciones de becarias/os tipo A y B de la UNMDP (OCS 1505/20) - Primer Cuatrimestre
DESCRIPTION:
URL:https://humanidades.mdp.edu.ar/actividad/adscripciones-de-becarias-os-tipo-a-y-b-de-la-unmdp-ocs-1505-20-primer-cuatrimestre/
CATEGORIES:Calendario administrativo
END:VEVENT
BEGIN:VEVENT
DTSTART;VALUE=DATE:20240403
DTEND;VALUE=DATE:20240413
DTSTAMP:20260420T053405
CREATED:20240321T174203Z
LAST-MODIFIED:20240321T174203Z
UID:14930-1712102400-1712966399@humanidades.mdp.edu.ar
SUMMARY:Funciones de becarios estudiantes avanzados de la UNMDP (OCS 1505/20) - Primer Cuatrimestre
DESCRIPTION:
URL:https://humanidades.mdp.edu.ar/actividad/funciones-de-becarios-estudiantes-avanzados-de-la-unmdp-ocs-1505-20-primer-cuatrimestre/
CATEGORIES:Calendario administrativo
END:VEVENT
BEGIN:VEVENT
DTSTART;VALUE=DATE:20240408
DTEND;VALUE=DATE:20240427
DTSTAMP:20260420T053405
CREATED:20240321T171914Z
LAST-MODIFIED:20240321T171914Z
UID:14910-1712534400-1714175999@humanidades.mdp.edu.ar
SUMMARY:Funciones becarios externos relacionadas con Lugares de Trabajo vigentes (OCS 2258/07) - Primer Cuatrimestre
DESCRIPTION:
URL:https://humanidades.mdp.edu.ar/actividad/funciones-becarios-externos-relacionadas-con-lugares-de-trabajo-vigentes-ocs-2258-07-primer-cuatrimestre/
CATEGORIES:Calendario administrativo
END:VEVENT
BEGIN:VEVENT
DTSTART;VALUE=DATE:20240408
DTEND;VALUE=DATE:20240608
DTSTAMP:20260420T053405
CREATED:20240321T174350Z
LAST-MODIFIED:20240321T174409Z
UID:14935-1712534400-1717804799@humanidades.mdp.edu.ar
SUMMARY:Oferta Académica de posgrado - Segundo Cuatrimestre 2024
DESCRIPTION:
URL:https://humanidades.mdp.edu.ar/actividad/oferta-academica-de-posgrado-5/
CATEGORIES:Calendario administrativo
END:VEVENT
END:VCALENDAR