BEGIN:VCALENDAR
VERSION:2.0
PRODID:-//Facultad de Humanidades - ECPv6.15.20//NONSGML v1.0//EN
CALSCALE:GREGORIAN
METHOD:PUBLISH
X-ORIGINAL-URL:https://humanidades.mdp.edu.ar
X-WR-CALDESC:Eventos para Facultad de Humanidades
REFRESH-INTERVAL;VALUE=DURATION:PT1H
X-Robots-Tag:noindex
X-PUBLISHED-TTL:PT1H
BEGIN:VTIMEZONE
TZID:America/Argentina/Buenos_Aires
BEGIN:STANDARD
TZOFFSETFROM:-0300
TZOFFSETTO:-0300
TZNAME:-03
DTSTART:20230101T000000
END:STANDARD
END:VTIMEZONE
BEGIN:VEVENT
DTSTART;VALUE=DATE:20240731
DTEND;VALUE=DATE:20240930
DTSTAMP:20260421T171815
CREATED:20240321T174614Z
LAST-MODIFIED:20240321T174614Z
UID:14943-1722384000-1727654399@humanidades.mdp.edu.ar
SUMMARY:Incorporaciones a Grupos de Investigación
DESCRIPTION:
URL:https://humanidades.mdp.edu.ar/actividad/incorporaciones-a-grupos-de-investigacion-8/
CATEGORIES:Calendario administrativo
END:VEVENT
BEGIN:VEVENT
DTSTART;VALUE=DATE:20240731
DTEND;VALUE=DATE:20240930
DTSTAMP:20260421T171815
CREATED:20240321T174704Z
LAST-MODIFIED:20240321T174704Z
UID:14947-1722384000-1727654399@humanidades.mdp.edu.ar
SUMMARY:Incorporaciones a Grupos de Extensión
DESCRIPTION:
URL:https://humanidades.mdp.edu.ar/actividad/incorporaciones-a-grupos-de-extension-8/
CATEGORIES:Calendario administrativo
END:VEVENT
BEGIN:VEVENT
DTSTART;VALUE=DATE:20240805
DTEND;VALUE=DATE:20240831
DTSTAMP:20260421T171815
CREATED:20231226T173957Z
LAST-MODIFIED:20231226T173957Z
UID:13846-1722816000-1725062399@humanidades.mdp.edu.ar
SUMMARY:Inscripción a cursadas
DESCRIPTION:Inscripción a cursadas: 05/08 al 30/08 para todas las carreras de la modalidad presencial y a distancia.\nInscripción de alumnos vocacionales nacionales y extranjeros (OCS vigente) 05/08 al 16/08\nInscripción de estudiantes a asignaturas optativas (OCS vigente): 05/08 al 16/08
URL:https://humanidades.mdp.edu.ar/actividad/inscripcion-a-cursadas-2/
CATEGORIES:Calendario académico
END:VEVENT
BEGIN:VEVENT
DTSTART;VALUE=DATE:20240805
DTEND;VALUE=DATE:20240817
DTSTAMP:20260421T171815
CREATED:20231226T174458Z
LAST-MODIFIED:20231226T174537Z
UID:13854-1722816000-1723852799@humanidades.mdp.edu.ar
SUMMARY:Turno de exámenes agosto
DESCRIPTION:05/8 al 09/8 – Todas las carreras modalidad presencial. \n12 al 16/8: En este llamado sólo se pasan notas finales en las materias promocionales de las carreras a distancia. Bibliotecario escolar. Licenciatura en Bibliotecología y Documentación- ciclo de licenciatura.
URL:https://humanidades.mdp.edu.ar/actividad/turno-de-examenes-agosto-3/
CATEGORIES:Calendario académico
END:VEVENT
BEGIN:VEVENT
DTSTART;VALUE=DATE:20240812
DTEND;VALUE=DATE:20240831
DTSTAMP:20260421T171815
CREATED:20240321T172016Z
LAST-MODIFIED:20240321T172016Z
UID:14912-1723420800-1725062399@humanidades.mdp.edu.ar
SUMMARY:Funciones becarios externos relacionadas con Lugares de Trabajo vigentes (OCS 2258/07) - Segundo Cuatrimestre
DESCRIPTION:
URL:https://humanidades.mdp.edu.ar/actividad/funciones-becarios-externos-relacionadas-con-lugares-de-trabajo-vigentes-ocs-2258-07-segundo-cuatrimestre/
CATEGORIES:Calendario administrativo
END:VEVENT
BEGIN:VEVENT
DTSTART;VALUE=DATE:20240817
DTEND;VALUE=DATE:20240818
DTSTAMP:20260421T171815
CREATED:20231226T174740Z
LAST-MODIFIED:20231226T174740Z
UID:13859-1723852800-1723939199@humanidades.mdp.edu.ar
SUMMARY:Paso a la Inmortalidad del General José de San Martín.
DESCRIPTION:17 de agosto\nPaso a la Inmortalidad del General José de San Martín.
URL:https://humanidades.mdp.edu.ar/actividad/paso-a-la-inmortalidad-del-general-jose-de-san-martin/
CATEGORIES:Calendario académico
END:VEVENT
BEGIN:VEVENT
DTSTART;VALUE=DATE:20240902
DTEND;VALUE=DATE:20240907
DTSTAMP:20260421T171815
CREATED:20231226T175633Z
LAST-MODIFIED:20231226T175633Z
UID:13867-1725235200-1725667199@humanidades.mdp.edu.ar
SUMMARY:Fecha límite para pedido de altas y excepciones
DESCRIPTION:02 al 06/09\nFecha límite para pedido de altas y excepciones
URL:https://humanidades.mdp.edu.ar/actividad/fecha-limite-para-pedido-de-altas-y-excepciones-17/
CATEGORIES:Calendario académico
END:VEVENT
BEGIN:VEVENT
DTSTART;VALUE=DATE:20240904
DTEND;VALUE=DATE:20241028
DTSTAMP:20260421T171815
CREATED:20240321T174737Z
LAST-MODIFIED:20240321T174737Z
UID:14949-1725408000-1730073599@humanidades.mdp.edu.ar
SUMMARY:Reconocimiento de asignaturas aisladas intrafacultad\, entre Facultades y de otras Universidades (OCS Nº 092/22)
DESCRIPTION:
URL:https://humanidades.mdp.edu.ar/actividad/reconocimiento-de-asignaturas-aisladas-intrafacultad-entre-facultades-y-de-otras-universidades-ocs-no-092-22/
CATEGORIES:Calendario administrativo
END:VEVENT
BEGIN:VEVENT
DTSTART;VALUE=DATE:20240904
DTEND;VALUE=DATE:20241028
DTSTAMP:20260421T171815
CREATED:20240321T174809Z
LAST-MODIFIED:20240321T174809Z
UID:14951-1725408000-1730073599@humanidades.mdp.edu.ar
SUMMARY:Reconocimiento de asignaturas aisladas de Institutos de nivel terciario no universitario (OCS Nº 092/22)
DESCRIPTION:
URL:https://humanidades.mdp.edu.ar/actividad/reconocimiento-de-asignaturas-aisladas-de-institutos-de-nivel-terciario-no-universitario-ocs-no-092-22/
CATEGORIES:Calendario administrativo
END:VEVENT
BEGIN:VEVENT
DTSTART;VALUE=DATE:20240904
DTEND;VALUE=DATE:20241028
DTSTAMP:20260421T171815
CREATED:20240321T174904Z
LAST-MODIFIED:20240321T174912Z
UID:14953-1725408000-1730073599@humanidades.mdp.edu.ar
SUMMARY:Reconocimiento de asignaturas Plan de Homologación de la carrera de Licenciatura en Cs. de la Educación
DESCRIPTION:
URL:https://humanidades.mdp.edu.ar/actividad/reconocimiento-de-asignaturas-plan-de-homologacion-de-la-carrera-de-licenciatura-en-cs-de-la-educacion-6/
CATEGORIES:Calendario administrativo
END:VEVENT
BEGIN:VEVENT
DTSTART;VALUE=DATE:20240909
DTEND;VALUE=DATE:20240914
DTSTAMP:20260421T171815
CREATED:20231226T174915Z
LAST-MODIFIED:20231226T174950Z
UID:13861-1725840000-1726271999@humanidades.mdp.edu.ar
SUMMARY:Turno de exámenes Septiembre
DESCRIPTION:9/9 al 13/9\nTodas las carreras modalidad presencial.
URL:https://humanidades.mdp.edu.ar/actividad/turno-de-examenes-septiembre-3/
CATEGORIES:Calendario académico
END:VEVENT
BEGIN:VEVENT
DTSTART;VALUE=DATE:20240909
DTEND;VALUE=DATE:20241109
DTSTAMP:20260421T171815
CREATED:20240321T174444Z
LAST-MODIFIED:20240321T174444Z
UID:14938-1725840000-1731110399@humanidades.mdp.edu.ar
SUMMARY:Oferta Académica de posgrado - Primer Cuatrimestre 2025
DESCRIPTION:
URL:https://humanidades.mdp.edu.ar/actividad/oferta-academica-de-posgrado-primer-cuatrimestre-2025/
CATEGORIES:Calendario administrativo
END:VEVENT
BEGIN:VEVENT
DTSTART;VALUE=DATE:20240921
DTEND;VALUE=DATE:20240922
DTSTAMP:20260421T171815
CREATED:20231226T175040Z
LAST-MODIFIED:20240902T154419Z
UID:13863-1726876800-1726963199@humanidades.mdp.edu.ar
SUMMARY:Asueto académico
DESCRIPTION:21/9\nDía del Estudiante
URL:https://humanidades.mdp.edu.ar/actividad/dia-del-estudiante/
CATEGORIES:Calendario académico
END:VEVENT
BEGIN:VEVENT
DTSTART;VALUE=DATE:20241002
DTEND;VALUE=DATE:20241007
DTSTAMP:20260421T171815
CREATED:20231226T180126Z
LAST-MODIFIED:20231226T180126Z
UID:13869-1727827200-1728259199@humanidades.mdp.edu.ar
SUMMARY:Turno de exámenes octubre
DESCRIPTION:(Art. 23 inc. H) “Los alumnos que adeuden menos de 5 (cinco) materias para completar su carrera\, podrán solicitar una mesa examinadora especial a constituirse en los meses de abril y octubre de cada año académico.” Nota: para presentar en el período del 02 al 06 de octubre OCA Nº 4173/16. \nLas mesas se sustanciarán del día 28/10 al 01/11
URL:https://humanidades.mdp.edu.ar/actividad/turno-de-examenes-octubre-3/
CATEGORIES:Calendario académico
END:VEVENT
BEGIN:VEVENT
DTSTART;VALUE=DATE:20241007
DTEND;VALUE=DATE:20241012
DTSTAMP:20260421T171815
CREATED:20231226T180234Z
LAST-MODIFIED:20240927T202828Z
UID:13871-1728259200-1728691199@humanidades.mdp.edu.ar
SUMMARY:Fecha límite para pedido de altas y excepciones
DESCRIPTION:07 al 11/10\nFecha límite para pedido de altas y excepciones
URL:https://humanidades.mdp.edu.ar/actividad/fecha-limite-para-pedido-de-altas-y-excepciones-18/
CATEGORIES:Calendario académico
END:VEVENT
BEGIN:VEVENT
DTSTART;VALUE=DATE:20241012
DTEND;VALUE=DATE:20241013
DTSTAMP:20260421T171815
CREATED:20241001T191200Z
LAST-MODIFIED:20241001T191530Z
UID:17948-1728691200-1728777599@humanidades.mdp.edu.ar
SUMMARY:Feriado Nacional
DESCRIPTION:Sábado 12 de octubre. Día del Respeto a la Diversidad Cultural\nSe decreta feriado también el viernes 11 de octubre
URL:https://humanidades.mdp.edu.ar/actividad/feriado-nacional/
CATEGORIES:Calendario académico
END:VEVENT
BEGIN:VEVENT
DTSTART;VALUE=DATE:20241104
DTEND;VALUE=DATE:20241109
DTSTAMP:20260421T171815
CREATED:20231226T180834Z
LAST-MODIFIED:20231226T180834Z
UID:13880-1730678400-1731110399@humanidades.mdp.edu.ar
SUMMARY:Fecha límite para pedido de altas y excepciones
DESCRIPTION:04 al 08/11\nFecha límite para pedido de altas y excepciones
URL:https://humanidades.mdp.edu.ar/actividad/fecha-limite-para-pedido-de-altas-y-excepciones-19/
CATEGORIES:Calendario académico
END:VEVENT
BEGIN:VEVENT
DTSTART;VALUE=DATE:20241111
DTEND;VALUE=DATE:20241123
DTSTAMP:20260421T171815
CREATED:20231226T180545Z
LAST-MODIFIED:20241031T212015Z
UID:13875-1731283200-1732319999@humanidades.mdp.edu.ar
SUMMARY:Turno de exámenes noviembre
DESCRIPTION:11/11 al 15/11 En este llamado solo se pasan notas finales en las materias promocionales de las carreras modalidad presencial; no se toman finales. \n18/11 al 22/11 toma de finales\, carreras de la modalidad a distancia. Bibliotecario escolar. Licenciatura en Bibliotecología y Documentación- ciclo de licenciatura. \nLas mesas del 20/11 se sustanciarían el miércoles 27/1
URL:https://humanidades.mdp.edu.ar/actividad/turno-de-examenes-noviembre-3/
CATEGORIES:Calendario académico
END:VEVENT
BEGIN:VEVENT
DTSTART;VALUE=DATE:20241118
DTEND;VALUE=DATE:20241119
DTSTAMP:20260421T171815
CREATED:20231226T180914Z
LAST-MODIFIED:20241111T174223Z
UID:13882-1731888000-1731974399@humanidades.mdp.edu.ar
SUMMARY:Día de la Soberanía Nacional
DESCRIPTION:20 de noviembre\nDía de la Soberanía Nacional\nEl feriado de la soberanía nacional del día 20 de noviembre se traslada al día lunes 18 de noviembre.
URL:https://humanidades.mdp.edu.ar/actividad/dia-de-la-soberania-nacional-2/
CATEGORIES:Calendario académico
END:VEVENT
BEGIN:VEVENT
DTSTART;VALUE=DATE:20241125
DTEND;VALUE=DATE:20241126
DTSTAMP:20260421T171815
CREATED:20231226T180732Z
LAST-MODIFIED:20241111T174310Z
UID:13877-1732492800-1732579199@humanidades.mdp.edu.ar
SUMMARY:Jornada de concientización sobre la Violencia de Género
DESCRIPTION:25/11\nDía de la eliminación contra la violencia de género
URL:https://humanidades.mdp.edu.ar/actividad/asueto-academico-8/
CATEGORIES:Calendario académico
END:VEVENT
BEGIN:VEVENT
DTSTART;VALUE=DATE:20241206
DTEND;VALUE=DATE:20241207
DTSTAMP:20260421T171815
CREATED:20231226T181502Z
LAST-MODIFIED:20231226T181502Z
UID:13893-1733443200-1733529599@humanidades.mdp.edu.ar
SUMMARY:Finalización del segundo cuatrimestre
DESCRIPTION:06/12\nFinalización del segundo cuatrimestre
URL:https://humanidades.mdp.edu.ar/actividad/finalizacion-del-segundo-cuatrimestre-4/
CATEGORIES:Calendario académico
END:VEVENT
BEGIN:VEVENT
DTSTART;VALUE=DATE:20241208
DTEND;VALUE=DATE:20241209
DTSTAMP:20260421T171815
CREATED:20231208T181047Z
LAST-MODIFIED:20231226T182654Z
UID:13886-1733616000-1733702399@humanidades.mdp.edu.ar
SUMMARY:Dia Inmaculada Concepción de María
DESCRIPTION:08/12\nDia Inmaculada Concepción de María
URL:https://humanidades.mdp.edu.ar/actividad/dia-inmaculada-concepcion-de-maria/
CATEGORIES:Calendario académico
END:VEVENT
BEGIN:VEVENT
DTSTART;VALUE=DATE:20241213
DTEND;VALUE=DATE:20241214
DTSTAMP:20260421T171815
CREATED:20231226T181701Z
LAST-MODIFIED:20231226T181701Z
UID:13897-1734048000-1734134399@humanidades.mdp.edu.ar
SUMMARY:Entrega de regularidades
DESCRIPTION:13/12\nEntrega de regularidades
URL:https://humanidades.mdp.edu.ar/actividad/entrega-de-regularidades-7/
CATEGORIES:Calendario académico
END:VEVENT
BEGIN:VEVENT
DTSTART;VALUE=DATE:20241216
DTEND;VALUE=DATE:20241221
DTSTAMP:20260421T171815
CREATED:20231226T181001Z
LAST-MODIFIED:20231226T181001Z
UID:13884-1734307200-1734739199@humanidades.mdp.edu.ar
SUMMARY:Turno de exámenes diciembre
DESCRIPTION:16/12 al 20/12\nPara todas las carreras de modalidad presencial
URL:https://humanidades.mdp.edu.ar/actividad/turno-de-examenes-diciembre-3/
CATEGORIES:Calendario académico
END:VEVENT
BEGIN:VEVENT
DTSTART;VALUE=DATE:20241225
DTEND;VALUE=DATE:20241226
DTSTAMP:20260421T171815
CREATED:20231226T181212Z
LAST-MODIFIED:20231226T181212Z
UID:13889-1735084800-1735171199@humanidades.mdp.edu.ar
SUMMARY:Navidad
DESCRIPTION:25/12\nNavidad
URL:https://humanidades.mdp.edu.ar/actividad/navidad-2/
CATEGORIES:Calendario académico
END:VEVENT
BEGIN:VEVENT
DTSTART;VALUE=DATE:20241231
DTEND;VALUE=DATE:20250101
DTSTAMP:20260421T171815
CREATED:20231226T181403Z
LAST-MODIFIED:20231226T181403Z
UID:13891-1735603200-1735689599@humanidades.mdp.edu.ar
SUMMARY:Fin de Año
DESCRIPTION:31/12\nFin de Año \n 
URL:https://humanidades.mdp.edu.ar/actividad/fin-de-ano/
CATEGORIES:Calendario académico
END:VEVENT
BEGIN:VEVENT
DTSTART;VALUE=DATE:20250203
DTEND;VALUE=DATE:20250208
DTSTAMP:20260421T171815
CREATED:20231226T181854Z
LAST-MODIFIED:20231226T181854Z
UID:13901-1738540800-1738972799@humanidades.mdp.edu.ar
SUMMARY:Fecha límite para pedido de altas y excepciones
DESCRIPTION:03 al 07/02\nFecha límite para pedido de altas y excepciones
URL:https://humanidades.mdp.edu.ar/actividad/fecha-limite-para-pedido-de-altas-y-excepciones-20/
CATEGORIES:Calendario académico
END:VEVENT
BEGIN:VEVENT
DTSTART;VALUE=DATE:20250211
DTEND;VALUE=DATE:20250212
DTSTAMP:20260421T171815
CREATED:20250220T143015Z
LAST-MODIFIED:20250220T143015Z
UID:18615-1739232000-1739318399@humanidades.mdp.edu.ar
SUMMARY:Planta Docente
DESCRIPTION:Planta Docente (designaciones interinos\, docentes a término\, funciones docentes regulares y Planillas de Declaración Jurada de Cargos)
URL:https://humanidades.mdp.edu.ar/actividad/planta-docente-2/
CATEGORIES:Calendario administrativo
END:VEVENT
BEGIN:VEVENT
DTSTART;TZID=America/Argentina/Buenos_Aires:20250217T080000
DTEND;TZID=America/Argentina/Buenos_Aires:20250221T170000
DTSTAMP:20260421T171815
CREATED:20231226T181759Z
LAST-MODIFIED:20231226T181759Z
UID:13899-1739779200-1740157200@humanidades.mdp.edu.ar
SUMMARY:Turno de exámenes febrero 2025
DESCRIPTION:17/02 al 21/02: Para todas las carreras de modalidad presencial.
URL:https://humanidades.mdp.edu.ar/actividad/turno-de-examenes-febrero-2025/
CATEGORIES:Calendario académico
END:VEVENT
BEGIN:VEVENT
DTSTART;VALUE=DATE:20250220
DTEND;VALUE=DATE:20250301
DTSTAMP:20260421T171815
CREATED:20250220T140810Z
LAST-MODIFIED:20250220T140810Z
UID:18569-1740009600-1740787199@humanidades.mdp.edu.ar
SUMMARY:Oferta Académica de grado
DESCRIPTION:Oferta Académica de grado
URL:https://humanidades.mdp.edu.ar/actividad/oferta-academica-de-grado-4/
CATEGORIES:Calendario administrativo
END:VEVENT
END:VCALENDAR