BEGIN:VCALENDAR
VERSION:2.0
PRODID:-//Facultad de Humanidades - ECPv6.15.20//NONSGML v1.0//EN
CALSCALE:GREGORIAN
METHOD:PUBLISH
X-ORIGINAL-URL:https://humanidades.mdp.edu.ar
X-WR-CALDESC:Eventos para Facultad de Humanidades
REFRESH-INTERVAL;VALUE=DURATION:PT1H
X-Robots-Tag:noindex
X-PUBLISHED-TTL:PT1H
BEGIN:VTIMEZONE
TZID:America/Argentina/Buenos_Aires
BEGIN:STANDARD
TZOFFSETFROM:-0300
TZOFFSETTO:-0300
TZNAME:-03
DTSTART:20230101T000000
END:STANDARD
END:VTIMEZONE
BEGIN:VEVENT
DTSTART;VALUE=DATE:20241206
DTEND;VALUE=DATE:20241207
DTSTAMP:20260421T162810
CREATED:20231226T181502Z
LAST-MODIFIED:20231226T181502Z
UID:13893-1733443200-1733529599@humanidades.mdp.edu.ar
SUMMARY:Finalización del segundo cuatrimestre
DESCRIPTION:06/12\nFinalización del segundo cuatrimestre
URL:https://humanidades.mdp.edu.ar/actividad/finalizacion-del-segundo-cuatrimestre-4/
CATEGORIES:Calendario académico
END:VEVENT
BEGIN:VEVENT
DTSTART;VALUE=DATE:20241208
DTEND;VALUE=DATE:20241209
DTSTAMP:20260421T162810
CREATED:20231208T181047Z
LAST-MODIFIED:20231226T182654Z
UID:13886-1733616000-1733702399@humanidades.mdp.edu.ar
SUMMARY:Dia Inmaculada Concepción de María
DESCRIPTION:08/12\nDia Inmaculada Concepción de María
URL:https://humanidades.mdp.edu.ar/actividad/dia-inmaculada-concepcion-de-maria/
CATEGORIES:Calendario académico
END:VEVENT
BEGIN:VEVENT
DTSTART;VALUE=DATE:20241213
DTEND;VALUE=DATE:20241214
DTSTAMP:20260421T162810
CREATED:20231226T181701Z
LAST-MODIFIED:20231226T181701Z
UID:13897-1734048000-1734134399@humanidades.mdp.edu.ar
SUMMARY:Entrega de regularidades
DESCRIPTION:13/12\nEntrega de regularidades
URL:https://humanidades.mdp.edu.ar/actividad/entrega-de-regularidades-7/
CATEGORIES:Calendario académico
END:VEVENT
BEGIN:VEVENT
DTSTART;VALUE=DATE:20241216
DTEND;VALUE=DATE:20241221
DTSTAMP:20260421T162810
CREATED:20231226T181001Z
LAST-MODIFIED:20231226T181001Z
UID:13884-1734307200-1734739199@humanidades.mdp.edu.ar
SUMMARY:Turno de exámenes diciembre
DESCRIPTION:16/12 al 20/12\nPara todas las carreras de modalidad presencial
URL:https://humanidades.mdp.edu.ar/actividad/turno-de-examenes-diciembre-3/
CATEGORIES:Calendario académico
END:VEVENT
BEGIN:VEVENT
DTSTART;VALUE=DATE:20241225
DTEND;VALUE=DATE:20241226
DTSTAMP:20260421T162810
CREATED:20231226T181212Z
LAST-MODIFIED:20231226T181212Z
UID:13889-1735084800-1735171199@humanidades.mdp.edu.ar
SUMMARY:Navidad
DESCRIPTION:25/12\nNavidad
URL:https://humanidades.mdp.edu.ar/actividad/navidad-2/
CATEGORIES:Calendario académico
END:VEVENT
BEGIN:VEVENT
DTSTART;VALUE=DATE:20241231
DTEND;VALUE=DATE:20250101
DTSTAMP:20260421T162810
CREATED:20231226T181403Z
LAST-MODIFIED:20231226T181403Z
UID:13891-1735603200-1735689599@humanidades.mdp.edu.ar
SUMMARY:Fin de Año
DESCRIPTION:31/12\nFin de Año \n 
URL:https://humanidades.mdp.edu.ar/actividad/fin-de-ano/
CATEGORIES:Calendario académico
END:VEVENT
BEGIN:VEVENT
DTSTART;VALUE=DATE:20250203
DTEND;VALUE=DATE:20250208
DTSTAMP:20260421T162810
CREATED:20231226T181854Z
LAST-MODIFIED:20231226T181854Z
UID:13901-1738540800-1738972799@humanidades.mdp.edu.ar
SUMMARY:Fecha límite para pedido de altas y excepciones
DESCRIPTION:03 al 07/02\nFecha límite para pedido de altas y excepciones
URL:https://humanidades.mdp.edu.ar/actividad/fecha-limite-para-pedido-de-altas-y-excepciones-20/
CATEGORIES:Calendario académico
END:VEVENT
BEGIN:VEVENT
DTSTART;VALUE=DATE:20250211
DTEND;VALUE=DATE:20250212
DTSTAMP:20260421T162810
CREATED:20250220T143015Z
LAST-MODIFIED:20250220T143015Z
UID:18615-1739232000-1739318399@humanidades.mdp.edu.ar
SUMMARY:Planta Docente
DESCRIPTION:Planta Docente (designaciones interinos\, docentes a término\, funciones docentes regulares y Planillas de Declaración Jurada de Cargos)
URL:https://humanidades.mdp.edu.ar/actividad/planta-docente-2/
CATEGORIES:Calendario administrativo
END:VEVENT
BEGIN:VEVENT
DTSTART;TZID=America/Argentina/Buenos_Aires:20250217T080000
DTEND;TZID=America/Argentina/Buenos_Aires:20250221T170000
DTSTAMP:20260421T162810
CREATED:20231226T181759Z
LAST-MODIFIED:20231226T181759Z
UID:13899-1739779200-1740157200@humanidades.mdp.edu.ar
SUMMARY:Turno de exámenes febrero 2025
DESCRIPTION:17/02 al 21/02: Para todas las carreras de modalidad presencial.
URL:https://humanidades.mdp.edu.ar/actividad/turno-de-examenes-febrero-2025/
CATEGORIES:Calendario académico
END:VEVENT
BEGIN:VEVENT
DTSTART;VALUE=DATE:20250220
DTEND;VALUE=DATE:20250301
DTSTAMP:20260421T162810
CREATED:20250220T140810Z
LAST-MODIFIED:20250220T140810Z
UID:18569-1740009600-1740787199@humanidades.mdp.edu.ar
SUMMARY:Oferta Académica de grado
DESCRIPTION:Oferta Académica de grado
URL:https://humanidades.mdp.edu.ar/actividad/oferta-academica-de-grado-4/
CATEGORIES:Calendario administrativo
END:VEVENT
BEGIN:VEVENT
DTSTART;VALUE=DATE:20250303
DTEND;VALUE=DATE:20250305
DTSTAMP:20260421T162810
CREATED:20231226T182127Z
LAST-MODIFIED:20231226T182127Z
UID:13906-1740960000-1741132799@humanidades.mdp.edu.ar
SUMMARY:Carnaval
DESCRIPTION:3 y 4/3\nCarnaval
URL:https://humanidades.mdp.edu.ar/actividad/carnaval/
CATEGORIES:Calendario académico
END:VEVENT
BEGIN:VEVENT
DTSTART;VALUE=DATE:20250308
DTEND;VALUE=DATE:20250309
DTSTAMP:20260421T162810
CREATED:20231226T182257Z
LAST-MODIFIED:20231226T182257Z
UID:13910-1741392000-1741478399@humanidades.mdp.edu.ar
SUMMARY:ASUETO ACADÉMICO
DESCRIPTION:08/03\nDía internacional de la mujer
URL:https://humanidades.mdp.edu.ar/actividad/asueto-academico-9/
CATEGORIES:Calendario académico
END:VEVENT
BEGIN:VEVENT
DTSTART;VALUE=DATE:20250310
DTEND;VALUE=DATE:20250322
DTSTAMP:20260421T162810
CREATED:20231226T182354Z
LAST-MODIFIED:20231226T182608Z
UID:13912-1741564800-1742601599@humanidades.mdp.edu.ar
SUMMARY:Reinscripción anual
DESCRIPTION:10/03 al 21/03/2025 para todas las carreras \nInscripción de cursadas de estudiantes para todos años: 10/03 al 21/03/2025 para todas las carreras. \nInscripción de alumnos vocacionales nacionales y extranjeros (OCS vigente) 10 al 21 de marzo. \nInscripción de estudiantes a asignaturas optativas (OCS vigente): 10 al 21 de marzo 2025
URL:https://humanidades.mdp.edu.ar/actividad/reinscripcion-anual/
CATEGORIES:Calendario académico
END:VEVENT
BEGIN:VEVENT
DTSTART;VALUE=DATE:20250310
DTEND;VALUE=DATE:20250329
DTSTAMP:20260421T162810
CREATED:20250220T142921Z
LAST-MODIFIED:20250220T142921Z
UID:18613-1741564800-1743206399@humanidades.mdp.edu.ar
SUMMARY:Turnos de Examen (OCS 92/22)
DESCRIPTION:Turnos de Examen (OCS 92/22)
URL:https://humanidades.mdp.edu.ar/actividad/turnos-de-examen-ocs-92-22/
CATEGORIES:Calendario administrativo
END:VEVENT
BEGIN:VEVENT
DTSTART;VALUE=DATE:20250311
DTEND;VALUE=DATE:20250323
DTSTAMP:20260421T162810
CREATED:20231226T182029Z
LAST-MODIFIED:20250218T141511Z
UID:13904-1741651200-1742687999@humanidades.mdp.edu.ar
SUMMARY:Turno de exámenes marzo de 2025
DESCRIPTION:10/03 al 14/03: Para todas las carreras de modalidad presencial\, se toman examen. \n17/03 AL 21 /03: toma de finales\, carreras modalidad distancia. Bibliotecario escolar. Licenciatura en Bibliotecología y Documentación- ciclo de licenciatura
URL:https://humanidades.mdp.edu.ar/actividad/turno-de-examenes-marzo-de-2025/
CATEGORIES:Calendario académico
END:VEVENT
BEGIN:VEVENT
DTSTART;VALUE=DATE:20250315
DTEND;VALUE=DATE:20250316
DTSTAMP:20260421T162810
CREATED:20250220T141307Z
LAST-MODIFIED:20250220T141307Z
UID:18577-1741996800-1742083199@humanidades.mdp.edu.ar
SUMMARY:Presentación de programas (PTD)
DESCRIPTION:Presentación de programas (PTD) OCA 270/23\, modificada por OCA 423/23 y RR 1413/05\, modificada por RR 2864/13.\nPara certificaciones para el exterior: ver memo 7/23 (PRESENTACION VERTICAL) \nHasta el 15 de marzo (primer cuatrimestre)
URL:https://humanidades.mdp.edu.ar/actividad/presentacion-de-programas-ptd-5/
CATEGORIES:Calendario administrativo
END:VEVENT
BEGIN:VEVENT
DTSTART;VALUE=DATE:20250317
DTEND;VALUE=DATE:20250318
DTSTAMP:20260421T162810
CREATED:20231226T182525Z
LAST-MODIFIED:20231226T182525Z
UID:13916-1742169600-1742255999@humanidades.mdp.edu.ar
SUMMARY:Inicio de clases
DESCRIPTION:17/03/25\nInicio de clases
URL:https://humanidades.mdp.edu.ar/actividad/inicio-de-clases-2/
CATEGORIES:Calendario académico
END:VEVENT
BEGIN:VEVENT
DTSTART;VALUE=DATE:20250402
DTEND;VALUE=DATE:20250403
DTSTAMP:20260421T162810
CREATED:20250220T125711Z
LAST-MODIFIED:20250220T125711Z
UID:18460-1743552000-1743638399@humanidades.mdp.edu.ar
SUMMARY:Feriado Nacional
DESCRIPTION:02/04/25\nDía del Veterano y de los Caídos en la Guerra de Malvinas
URL:https://humanidades.mdp.edu.ar/actividad/feriado-nacional-2/
CATEGORIES:Calendario académico
END:VEVENT
BEGIN:VEVENT
DTSTART;VALUE=DATE:20250407
DTEND;VALUE=DATE:20250426
DTSTAMP:20260421T162810
CREATED:20250220T135921Z
LAST-MODIFIED:20250220T135921Z
UID:18549-1743984000-1745625599@humanidades.mdp.edu.ar
SUMMARY:Funciones becarios externos relacionadas con Lugares de Trabajo vigentes (OCS 2258/07 Anexo II\, OCA 962/02)
DESCRIPTION:Funciones becarios externos relacionadas con Lugares de Trabajo vigentes (OCS 2258/07 Anexo II\, OCA 962/02)
URL:https://humanidades.mdp.edu.ar/actividad/funciones-becarios-externos-relacionadas-con-lugares-de-trabajo-vigentes-ocs-2258-07-anexo-ii-oca-962-02/
CATEGORIES:Calendario administrativo
END:VEVENT
BEGIN:VEVENT
DTSTART;VALUE=DATE:20250407
DTEND;VALUE=DATE:20250417
DTSTAMP:20260421T162810
CREATED:20250220T140051Z
LAST-MODIFIED:20250220T140051Z
UID:18553-1743984000-1744847999@humanidades.mdp.edu.ar
SUMMARY:Adscripciones graduadas/os - Docencia (OCA 296/24)
DESCRIPTION:Adscripciones graduadas/os – Docencia (OCA 296/24)
URL:https://humanidades.mdp.edu.ar/actividad/adscripciones-graduadas-os-docencia-oca-296-24/
CATEGORIES:Calendario administrativo
END:VEVENT
BEGIN:VEVENT
DTSTART;VALUE=DATE:20250407
DTEND;VALUE=DATE:20250417
DTSTAMP:20260421T162810
CREATED:20250220T140233Z
LAST-MODIFIED:20250220T140233Z
UID:18557-1743984000-1744847999@humanidades.mdp.edu.ar
SUMMARY:Adscripciones estudiantes - Docencia (OCA 295/24)
DESCRIPTION:Adscripciones estudiantes – Docencia (OCA 295/24)
URL:https://humanidades.mdp.edu.ar/actividad/adscripciones-estudiantes-docencia-oca-295-24/
CATEGORIES:Calendario administrativo
END:VEVENT
BEGIN:VEVENT
DTSTART;VALUE=DATE:20250407
DTEND;VALUE=DATE:20250417
DTSTAMP:20260421T162810
CREATED:20250220T140419Z
LAST-MODIFIED:20250220T140419Z
UID:18561-1743984000-1744847999@humanidades.mdp.edu.ar
SUMMARY:Adscripciones de becarias/os tipo A y B de la UNMDP (OCS 1505/20)
DESCRIPTION:Adscripciones de becarias/os tipo A y B de la UNMDP (OCS 1505/20)
URL:https://humanidades.mdp.edu.ar/actividad/adscripciones-de-becarias-os-tipo-a-y-b-de-la-unmdp-ocs-1505-20/
CATEGORIES:Calendario administrativo
END:VEVENT
BEGIN:VEVENT
DTSTART;VALUE=DATE:20250407
DTEND;VALUE=DATE:20250417
DTSTAMP:20260421T162810
CREATED:20250220T140553Z
LAST-MODIFIED:20250220T140553Z
UID:18565-1743984000-1744847999@humanidades.mdp.edu.ar
SUMMARY:Funciones de becarios estudiantes avanzados de la UNMDP (OCS 1505/20)
DESCRIPTION:Funciones de becarios estudiantes avanzados de la UNMDP (OCS 1505/20)
URL:https://humanidades.mdp.edu.ar/actividad/funciones-de-becarios-estudiantes-avanzados-de-la-unmdp-ocs-1505-20/
CATEGORIES:Calendario administrativo
END:VEVENT
BEGIN:VEVENT
DTSTART;VALUE=DATE:20250407
DTEND;VALUE=DATE:20250607
DTSTAMP:20260421T162810
CREATED:20250220T141018Z
LAST-MODIFIED:20250220T141018Z
UID:18573-1743984000-1749254399@humanidades.mdp.edu.ar
SUMMARY:Oferta Académica de posgrado
DESCRIPTION:Oferta Académica de posgrado – 07 de abril al 06 de junio (segundo\ncuatrimestre 2025)
URL:https://humanidades.mdp.edu.ar/actividad/oferta-academica-de-posgrado-6/
CATEGORIES:Calendario administrativo
END:VEVENT
BEGIN:VEVENT
DTSTART;VALUE=DATE:20250414
DTEND;VALUE=DATE:20250415
DTSTAMP:20260421T162810
CREATED:20250220T131000Z
LAST-MODIFIED:20250220T131000Z
UID:18466-1744588800-1744675199@humanidades.mdp.edu.ar
SUMMARY:Fecha límite para pedido de altas y excepciones
DESCRIPTION:Fecha límite para pedido de altas y excepciones – 14/04
URL:https://humanidades.mdp.edu.ar/actividad/fecha-limite-para-pedido-de-altas-y-excepciones-21/
CATEGORIES:Calendario académico
END:VEVENT
BEGIN:VEVENT
DTSTART;VALUE=DATE:20250414
DTEND;VALUE=DATE:20250415
DTSTAMP:20260421T162810
CREATED:20250220T142408Z
LAST-MODIFIED:20250220T142408Z
UID:18597-1744588800-1744675199@humanidades.mdp.edu.ar
SUMMARY:Reincorporación de Alumnos dados de baja (OCS 92/22)
DESCRIPTION:Reincorporación de Alumnos dados de baja (OCS 92/22)
URL:https://humanidades.mdp.edu.ar/actividad/reincorporacion-de-alumnos-dados-de-baja-ocs-92-22/
CATEGORIES:Calendario administrativo
END:VEVENT
BEGIN:VEVENT
DTSTART;VALUE=DATE:20250417
DTEND;VALUE=DATE:20250419
DTSTAMP:20260421T162810
CREATED:20250220T125938Z
LAST-MODIFIED:20250220T130428Z
UID:18462-1744848000-1745020799@humanidades.mdp.edu.ar
SUMMARY:Semana Santa
DESCRIPTION:jueves 17 y viernes 18 de abril: Semana Santa.
URL:https://humanidades.mdp.edu.ar/actividad/feriado-nacional-3/
CATEGORIES:Calendario académico
END:VEVENT
BEGIN:VEVENT
DTSTART;VALUE=DATE:20250501
DTEND;VALUE=DATE:20250503
DTSTAMP:20260421T162810
CREATED:20250220T131646Z
LAST-MODIFIED:20250220T131646Z
UID:18470-1746057600-1746230399@humanidades.mdp.edu.ar
SUMMARY:Feriado Nacional - Día del Trabajador
DESCRIPTION:Jueves 1 de mayo. Día del Trabajador.\nViernes 2: Puente turístico no laborable
URL:https://humanidades.mdp.edu.ar/actividad/feriado-nacional-dia-del-trabajador/
CATEGORIES:Calendario académico
END:VEVENT
BEGIN:VEVENT
DTSTART;VALUE=DATE:20250505
DTEND;VALUE=DATE:20250510
DTSTAMP:20260421T162810
CREATED:20250220T133008Z
LAST-MODIFIED:20250220T133008Z
UID:18479-1746403200-1746835199@humanidades.mdp.edu.ar
SUMMARY:Fecha límite para pedido de altas y excepciones
DESCRIPTION:Fecha límite para pedido de altas y excepciones: 05/05 al 09/05
URL:https://humanidades.mdp.edu.ar/actividad/fecha-limite-para-pedido-de-altas-y-excepciones-22/
CATEGORIES:Calendario académico
END:VEVENT
BEGIN:VEVENT
DTSTART;VALUE=DATE:20250505
DTEND;VALUE=DATE:20250628
DTSTAMP:20260421T162810
CREATED:20250220T141521Z
LAST-MODIFIED:20250220T141521Z
UID:18581-1746403200-1751068799@humanidades.mdp.edu.ar
SUMMARY:Incorporaciones a Grupos de Investigación
DESCRIPTION:Incorporaciones a Grupos de Investigación (recordar incluir c.v. y plan de tareas)
URL:https://humanidades.mdp.edu.ar/actividad/incorporaciones-a-grupos-de-investigacion-9/
CATEGORIES:Calendario administrativo
END:VEVENT
END:VCALENDAR